BEGIN:VCALENDAR
PRODID:NingEventWidget-v1
VERSION:2.0
METHOD:PUBLISH
BEGIN:VTIMEZONE
TZID:Europe/London
X-LIC-LOCATION:Europe/London
BEGIN:DAYLIGHT
TZOFFSETFROM:+0000
TZOFFSETTO:+0100
TZNAME:BST
DTSTART:19700329T010000
RRULE:FREQ=YEARLY;BYMONTH=3;BYDAY=-1SU
END:DAYLIGHT
BEGIN:STANDARD
TZOFFSETFROM:+0100
TZOFFSETTO:+0000
TZNAME:GMT
DTSTART:19701025T020000
RRULE:FREQ=YEARLY;BYMONTH=10;BYDAY=-1SU
END:STANDARD
END:VTIMEZONE
BEGIN:VEVENT
UID:6278630:Event:251816
DTSTAMP:20260424T145005Z
SUMMARY:Muswell Hill Creatives Make and Mend Festival
DESCRIPTION:We have a fabulous afternoon of workshops lined up for you
  at our Make and Mend Festival on Saturday 18 October.  Put your bu
 sy lives on pause and come along with friends and family to immerse yo
 urselves in mindful and fun creative activities. Try block printing, 
 doll making, paper lampshade making, mending knitwear + more.  The won
 derful women of the Stroud Green WI will be serving delicious savour
 ies, cakes and hot drinks. There will be gorgeous work on sale by loca
 l makers (including stock at discounted prices) and members of the Mu
 swell Hill Sustainability Group will be with us to give sustainable l
 iving advice.  Admission to the Festival is FREE. Workshop details and
  prices can be found on our website.  Early pre-booking is advisable
  as spaces are limited.\n\n\n\nFor more information visit https://bowe
 sandbounds.org/events/muswell-hill-creatives-make-and-mend-festival
DTSTART;TZID=Europe/London:20251018T130000
DTEND;TZID=Europe/London:20251018T173000
CATEGORIES:craft, workshops
LOCATION:Hornsey Parish Church Hall
WEBSITE:https://www.muswellhillcreatives.com/make-and-mend.html
URL:https://www.muswellhillcreatives.com/make-and-mend.html
CONTACT:
ORGANIZER;CN="Rachael B-C":https://bowesandbounds.org/profile/RachaelB
 C
ATTACH;FMTTYPE="image/jpeg":https://storage.ning.com/topology/rest/1.0
 /file/get/13725788067?profile=original
ATTENDEE;ROLE=REQ-PARTICIPANT;PARTSTAT=ACCEPTED;RSVP=TRUE;CN="Rachael 
 B-C":https://bowesandbounds.org/profile/RachaelBC
END:VEVENT
END:VCALENDAR
