BEGIN:VCALENDAR
PRODID:NingEventWidget-v1
VERSION:2.0
METHOD:PUBLISH
BEGIN:VTIMEZONE
TZID:Europe/London
X-LIC-LOCATION:Europe/London
BEGIN:DAYLIGHT
TZOFFSETFROM:+0000
TZOFFSETTO:+0100
TZNAME:BST
DTSTART:19700329T010000
RRULE:FREQ=YEARLY;BYMONTH=3;BYDAY=-1SU
END:DAYLIGHT
BEGIN:STANDARD
TZOFFSETFROM:+0100
TZOFFSETTO:+0000
TZNAME:GMT
DTSTART:19701025T020000
RRULE:FREQ=YEARLY;BYMONTH=10;BYDAY=-1SU
END:STANDARD
END:VTIMEZONE
BEGIN:VEVENT
UID:6278630:Event:65303
DTSTAMP:20260425T200726Z
SUMMARY:Muswell Hill Festival - supporting children with cerebral pals
 y
DESCRIPTION:CRAFTS, FOOD, DRINKS, MUSIC, FUN!\nThe London Centre for C
 hildren with Cerebral Palsy is pleased to announce that the Muswell Hi
 ll Festival will take place on Sunday 8 September at Cherry Tree Wood\
 nThis year is special for us as we are celebrating our fiftieth annive
 rsary as a charity and ten years at Cherry Tree Wood!\nAs always the f
 estival promises to have a wonderful array of stalls, activities for t
 he children in the kids’ zone including the steam train and donkey r
 ides. The dog agility course will be back by popular demand.\nWe have 
 a fantastic line up for entertainment and the food court promises to b
 e as exciting as last year with an international choice.\n\nFor more i
 nformation visit https://bowesandbounds.org/events/muswell-hill-festiv
 al-supporting-children-with-cerebral-palsy
DTSTART;TZID=Europe/London:20130908T180000
DTEND;TZID=Europe/London:20130908T190000
CATEGORIES:festival, fundraiser
LOCATION:Cherry Tree Wood
WEBSITE:http://www.cplondon.org.uk/support-us/events/muswell-hill-fest
 ival/
URL:http://www.cplondon.org.uk/support-us/events/muswell-hill-festival
 /
CONTACT:
ORGANIZER;CN=Administrator:https://bowesandbounds.org/profile/Administ
 rator
ATTACH;FMTTYPE="image/jpeg":http://storage.ning.com/topology/rest/1.0/
 file/get/2287253402?profile=original
ATTENDEE;ROLE=REQ-PARTICIPANT;PARTSTAT=ACCEPTED;RSVP=TRUE;CN=Administr
 ator:https://bowesandbounds.org/profile/Administrator
END:VEVENT
END:VCALENDAR
