BEGIN:VCALENDAR
PRODID:NingEventWidget-v1
VERSION:2.0
METHOD:PUBLISH
BEGIN:VTIMEZONE
TZID:Europe/London
X-LIC-LOCATION:Europe/London
BEGIN:DAYLIGHT
TZOFFSETFROM:+0000
TZOFFSETTO:+0100
TZNAME:BST
DTSTART:19700329T010000
RRULE:FREQ=YEARLY;BYMONTH=3;BYDAY=-1SU
END:DAYLIGHT
BEGIN:STANDARD
TZOFFSETFROM:+0100
TZOFFSETTO:+0000
TZNAME:GMT
DTSTART:19701025T020000
RRULE:FREQ=YEARLY;BYMONTH=10;BYDAY=-1SU
END:STANDARD
END:VTIMEZONE
BEGIN:VEVENT
UID:6278630:Event:251346
DTSTAMP:20260419T174058Z
SUMMARY:Muswell Hill Repair Café
DESCRIPTION:The first Muswell Hill Repair Café in June was such a gre
 at success that Muswell Hill Sustainability Group and Haringey Fixers 
 are joining forces again to offer a second on Saturday 26th July.\nDON
 'T BIN IT ... BRING IT!\nWhether it's electricals, joinery, jewellery,
  ceramics, IT or textiles, our brilliant team of fixers will mend it, 
 where possible, and teach you to fix it alongside them.\nBook your slo
 t online through the Eventbrite link, or, for textile and apparel repa
 irs only, just turn up on the day.\nFREE (although cash donations towa
 rds the venue hire are very welcomed by a volunteer organisation).\nFR
 EE refreshments\n\nFor more information visit https://bowesandbounds.o
 rg/events/muswell-hill-repair-caf-1
DTSTART;TZID=Europe/London:20250726T140000
DTEND;TZID=Europe/London:20250726T170000
CATEGORIES:free, repair, café, in, muswell, hill
LOCATION:Muswell Hill Methodist Church
WEBSITE:https://www.eventbrite.co.uk/e/muswell-hill-repair-cafe-regist
 ration-1338522570039
URL:https://www.eventbrite.co.uk/e/muswell-hill-repair-cafe-registrati
 on-1338522570039
CONTACT:07968963456
ORGANIZER;CN="Lisa Jones":https://bowesandbounds.org/profile/LisaJones
 508
ATTACH;FMTTYPE="image/jpeg":https://storage.ning.com/topology/rest/1.0
 /file/get/13660395487?profile=original
ATTENDEE;ROLE=REQ-PARTICIPANT;PARTSTAT=ACCEPTED;RSVP=TRUE;CN="Lisa Jon
 es":https://bowesandbounds.org/profile/LisaJones508
END:VEVENT
END:VCALENDAR
