BEGIN:VCALENDAR
PRODID:NingEventWidget-v1
VERSION:2.0
METHOD:PUBLISH
BEGIN:VTIMEZONE
TZID:Europe/London
X-LIC-LOCATION:Europe/London
BEGIN:DAYLIGHT
TZOFFSETFROM:+0000
TZOFFSETTO:+0100
TZNAME:BST
DTSTART:19700329T010000
RRULE:FREQ=YEARLY;BYMONTH=3;BYDAY=-1SU
END:DAYLIGHT
BEGIN:STANDARD
TZOFFSETFROM:+0100
TZOFFSETTO:+0000
TZNAME:GMT
DTSTART:19701025T020000
RRULE:FREQ=YEARLY;BYMONTH=10;BYDAY=-1SU
END:STANDARD
END:VTIMEZONE
BEGIN:VEVENT
UID:6278630:Event:244995
DTSTAMP:20260420T075615Z
SUMMARY:Myddleton Road Market
DESCRIPTION:Myddleton Road Market is back on Sunday, with some sunshin
 e forecast!\r\n\r\nStalls will include: Art, jewellery, crafts, artisa
 n bread, cakes, delicious hot food, refill truck. \n\nFor more informa
 tion visit https://bowesandbounds.org/events/myddleton-road-market-7
DTSTART;TZID=Europe/London:20230805T110000
DTEND;TZID=Europe/London:20230805T160000
CATEGORIES:community, market
LOCATION:Myddleton Road
WEBSITE:https://www.myddletonroadmarket.co.uk/markets/2019/8/4/myddlet
 on-road-market
URL:https://www.myddletonroadmarket.co.uk/markets/2019/8/4/myddleton-r
 oad-market
CONTACT:
ORGANIZER;CN="Daniel Cowan":https://bowesandbounds.org/profile/DanielC
 owan
ATTACH;FMTTYPE="image/jpeg":
ATTENDEE;ROLE=REQ-PARTICIPANT;PARTSTAT=ACCEPTED;RSVP=TRUE;CN="Daniel C
 owan":https://bowesandbounds.org/profile/DanielCowan
END:VEVENT
END:VCALENDAR
