BEGIN:VCALENDAR
PRODID:NingEventWidget-v1
VERSION:2.0
METHOD:PUBLISH
BEGIN:VTIMEZONE
TZID:Europe/London
X-LIC-LOCATION:Europe/London
BEGIN:DAYLIGHT
TZOFFSETFROM:+0000
TZOFFSETTO:+0100
TZNAME:BST
DTSTART:19700329T010000
RRULE:FREQ=YEARLY;BYMONTH=3;BYDAY=-1SU
END:DAYLIGHT
BEGIN:STANDARD
TZOFFSETFROM:+0100
TZOFFSETTO:+0000
TZNAME:GMT
DTSTART:19701025T020000
RRULE:FREQ=YEARLY;BYMONTH=10;BYDAY=-1SU
END:STANDARD
END:VTIMEZONE
BEGIN:VEVENT
UID:6278630:Event:123464
DTSTAMP:20260424T223626Z
SUMMARY:Myddleton Road Photography Competition
DESCRIPTION:We Love Myddleton Road are pleased to announce our 2017 ph
 otography competition.\nFree entry to all. Two categories: Under 16 an
 d 16-116.\nSubmit up to 5 photos taken between 11am and 3pm showing h
 ow or why you love Myddleton Road.\n\nResults to be announced at aroun
 d 4.30pm.\n\nFor more information visit https://bowesandbounds.org/eve
 nts/myddleton-road-photography-competition-1
DTSTART;TZID=Europe/London:20170617T110000
DTEND;TZID=Europe/London:20170617T150000
CATEGORIES:competition
LOCATION:Myddleton Road
WEBSITE:
URL:
CONTACT:
ORGANIZER;CN="Daniel Cowan":https://bowesandbounds.org/profile/DanielC
 owan
ATTACH;FMTTYPE="image/jpeg":
ATTENDEE;ROLE=REQ-PARTICIPANT;PARTSTAT=ACCEPTED;RSVP=TRUE;CN="Daniel C
 owan":https://bowesandbounds.org/profile/DanielCowan
END:VEVENT
END:VCALENDAR
