BEGIN:VCALENDAR
PRODID:NingEventWidget-v1
VERSION:2.0
METHOD:PUBLISH
BEGIN:VTIMEZONE
TZID:Europe/London
X-LIC-LOCATION:Europe/London
BEGIN:DAYLIGHT
TZOFFSETFROM:+0000
TZOFFSETTO:+0100
TZNAME:BST
DTSTART:19700329T010000
RRULE:FREQ=YEARLY;BYMONTH=3;BYDAY=-1SU
END:DAYLIGHT
BEGIN:STANDARD
TZOFFSETFROM:+0100
TZOFFSETTO:+0000
TZNAME:GMT
DTSTART:19701025T020000
RRULE:FREQ=YEARLY;BYMONTH=10;BYDAY=-1SU
END:STANDARD
END:VTIMEZONE
BEGIN:VEVENT
UID:6278630:Event:244750
DTSTAMP:20260425T005257Z
SUMMARY:Myddleton Road Photography Competition
DESCRIPTION:Join in with our Live Photography Competition. Submit up t
 o 5 photographs showing why you love Myddleton Road.\r\nUnder 16s and 
 16+. Free Entry.\r\n1st Prizes: An 8x10 size framed print\r\n2nd & 3rd
  Prizes: An 8x10 print\r\nPrizes kindly donated by: The 3 Greens, Phot
 o & Print Specialists, 87 Green Lanes N13 4TD\n\nFor more information 
 visit https://bowesandbounds.org/events/myddleton-road-photography-com
 petition-3
DTSTART;TZID=Europe/London:20230624T110000
DTEND;TZID=Europe/London:20230624T140000
CATEGORIES:photography, competition
LOCATION:Myddleton Road
WEBSITE:http://http:myddletonroad.com/photocomp
URL:http://http:myddletonroad.com/photocomp
CONTACT:
ORGANIZER;CN="Daniel Cowan":https://bowesandbounds.org/profile/DanielC
 owan
ATTACH;FMTTYPE="image/jpeg":https://storage.ning.com/topology/rest/1.0
 /file/get/12107073085?profile=original
ATTENDEE;ROLE=REQ-PARTICIPANT;PARTSTAT=ACCEPTED;RSVP=TRUE;CN="Daniel C
 owan":https://bowesandbounds.org/profile/DanielCowan
END:VEVENT
END:VCALENDAR
