BEGIN:VCALENDAR
PRODID:NingEventWidget-v1
VERSION:2.0
METHOD:PUBLISH
BEGIN:VTIMEZONE
TZID:Europe/London
X-LIC-LOCATION:Europe/London
BEGIN:DAYLIGHT
TZOFFSETFROM:+0000
TZOFFSETTO:+0100
TZNAME:BST
DTSTART:19700329T010000
RRULE:FREQ=YEARLY;BYMONTH=3;BYDAY=-1SU
END:DAYLIGHT
BEGIN:STANDARD
TZOFFSETFROM:+0100
TZOFFSETTO:+0000
TZNAME:GMT
DTSTART:19701025T020000
RRULE:FREQ=YEARLY;BYMONTH=10;BYDAY=-1SU
END:STANDARD
END:VTIMEZONE
BEGIN:VEVENT
UID:6278630:Event:131078
DTSTAMP:20260425T005257Z
SUMMARY:Myddleton Road Photography Competition2018
DESCRIPTION:We Love Myddleton Road are pleased to announce our 2018 ph
 otography competition.\nFree entry to all. Two categories: Under 16 an
 d 16-116.\nSubmit up to 5 photos taken between 11am and 3pm showing h
 ow or why you love Myddleton Road.\n \nResults to be announced at aro
 und 4.30pm.\n\n\n\n• Please ensure all photos submitted are taken in
  Myddleton Road between 11am and 3pm on Saturday 12th May 2018. • E
 ntries should be submitted by 3pm. • By submitting a photograph, the
  entrant declares that the photograph is their own work and free of an
 y copyright. • In submitting to the competition, you agree to grant 
 We Love Myddleton Road a royalty-free, non-exclusive license to publis
 h and otherwise use the submitted material. You still own the copyrigh
 t to everything you contribute. • You may submit up to 5 photographs
 . • Your entry should be submitted via email to welove@myddletonroad
 .com or with the hashtag #MRphotocomp on Twitter or Instagram. • You
  should indicate whether the photographer is aged 1-15 or 16-116 to be
  entered into the correct prize category. We will assume they are aged
  16-116 if this is not indicated. • The prizes are limited and must 
 be claimed within 1 month. • The judges will decide upon the best ph
 otographs and their decisions are absolutely final. • Pictures deeme
 d inappropriate will not be accepted into the competition. This includ
 es images that may be offensive, previously published, or copyrighted.
  • Please ensure you have consent from any persons featured in your 
 photographs. If you submit pictures of children aged under 18, please 
 ensure you have consent from the subject’s guardian before submittin
 g your entry.\nThe best of luck to all our entrants!\n\nFor more infor
 mation visit https://bowesandbounds.org/events/myddleton-road-photogra
 phy-competition2018
DTSTART;TZID=Europe/London:20180512T110000
DTEND;TZID=Europe/London:20180512T150000
CATEGORIES:competition
LOCATION:Myddleton Road
WEBSITE:
URL:
CONTACT:
ORGANIZER;CN="Daniel Cowan":https://bowesandbounds.org/profile/DanielC
 owan
ATTACH;FMTTYPE="image/jpeg":
ATTENDEE;ROLE=REQ-PARTICIPANT;PARTSTAT=ACCEPTED;RSVP=TRUE;CN="Daniel C
 owan":https://bowesandbounds.org/profile/DanielCowan
END:VEVENT
END:VCALENDAR
