BEGIN:VCALENDAR
PRODID:NingEventWidget-v1
VERSION:2.0
METHOD:PUBLISH
BEGIN:VTIMEZONE
TZID:Europe/London
X-LIC-LOCATION:Europe/London
BEGIN:DAYLIGHT
TZOFFSETFROM:+0000
TZOFFSETTO:+0100
TZNAME:BST
DTSTART:19700329T010000
RRULE:FREQ=YEARLY;BYMONTH=3;BYDAY=-1SU
END:DAYLIGHT
BEGIN:STANDARD
TZOFFSETFROM:+0100
TZOFFSETTO:+0000
TZNAME:GMT
DTSTART:19701025T020000
RRULE:FREQ=YEARLY;BYMONTH=10;BYDAY=-1SU
END:STANDARD
END:VTIMEZONE
BEGIN:VEVENT
UID:6278630:Event:137115
DTSTAMP:20260423T224810Z
SUMMARY:Myddleton Road Summer Festival
DESCRIPTION:Its the Big One!! Over 60 stallholders with amazing street
  food, produce, crafts and vintage. Bars with craft beer, Pimms, wines
  and cocktails. Live music stage with many local acts and DJs. Wellnes
 s area with free demos by the best local instructors for adults and ch
 ildren. Fun fair rides. Giant games, kids activities and more!\n\nFor 
 more information visit https://bowesandbounds.org/events/myddleton-roa
 d-summer-festival-1
DTSTART;TZID=Europe/London:20190707T120000
DTEND;TZID=Europe/London:20190707T180000
CATEGORIES:festival, market, food, drink, live, music
LOCATION:Myddleton Road Market
WEBSITE:http://www.myddletonroadmarket.co.uk
URL:http://www.myddletonroadmarket.co.uk
CONTACT:
ORGANIZER;CN="Lucy Whitehead":https://bowesandbounds.org/profile/LucyW
 hitehead
ATTACH;FMTTYPE="image/jpeg":https://storage.ning.com/topology/rest/1.0
 /file/get/3188305570?profile=original
ATTENDEE;ROLE=REQ-PARTICIPANT;PARTSTAT=ACCEPTED;RSVP=TRUE;CN="Lucy Whi
 tehead":https://bowesandbounds.org/profile/LucyWhitehead
END:VEVENT
END:VCALENDAR
