BEGIN:VCALENDAR
PRODID:NingEventWidget-v1
VERSION:2.0
METHOD:PUBLISH
BEGIN:VTIMEZONE
TZID:Europe/London
X-LIC-LOCATION:Europe/London
BEGIN:DAYLIGHT
TZOFFSETFROM:+0000
TZOFFSETTO:+0100
TZNAME:BST
DTSTART:19700329T010000
RRULE:FREQ=YEARLY;BYMONTH=3;BYDAY=-1SU
END:DAYLIGHT
BEGIN:STANDARD
TZOFFSETFROM:+0100
TZOFFSETTO:+0000
TZNAME:GMT
DTSTART:19701025T020000
RRULE:FREQ=YEARLY;BYMONTH=10;BYDAY=-1SU
END:STANDARD
END:VTIMEZONE
BEGIN:VEVENT
UID:6278630:Event:139129
DTSTAMP:20260423T101722Z
SUMMARY:Myddleton Road Winter Festival
DESCRIPTION:Lantern Parade \nMarket Stalls\nSantas Grotto\nBrass Band
 \nLights With On\nFun Fair Rides \nfree activities! \n12 noon to 5pm
  \n\nFor more information visit https://bowesandbounds.org/events/myd
 dleton-road-winter-festival-3
DTSTART;TZID=Europe/London:20191201T000000
DTEND;TZID=Europe/London:20191201T170000
CATEGORIES:festival, market, food, drink, live, music
LOCATION:Myddleton Road Market
WEBSITE:
URL:
CONTACT:
ORGANIZER;CN="Lucy Whitehead":https://bowesandbounds.org/profile/LucyW
 hitehead
ATTACH;FMTTYPE="image/jpeg":
ATTENDEE;ROLE=REQ-PARTICIPANT;PARTSTAT=ACCEPTED;RSVP=TRUE;CN="Dallal B
 enRomdhane":https://bowesandbounds.org/profile/DallalBenRomdhane
ATTENDEE;ROLE=REQ-PARTICIPANT;PARTSTAT=ACCEPTED;RSVP=TRUE;CN="Lucy Whi
 tehead":https://bowesandbounds.org/profile/LucyWhitehead
END:VEVENT
END:VCALENDAR
