BEGIN:VCALENDAR
PRODID:NingEventWidget-v1
VERSION:2.0
METHOD:PUBLISH
BEGIN:VTIMEZONE
TZID:Europe/London
X-LIC-LOCATION:Europe/London
BEGIN:DAYLIGHT
TZOFFSETFROM:+0000
TZOFFSETTO:+0100
TZNAME:BST
DTSTART:19700329T010000
RRULE:FREQ=YEARLY;BYMONTH=3;BYDAY=-1SU
END:DAYLIGHT
BEGIN:STANDARD
TZOFFSETFROM:+0100
TZOFFSETTO:+0000
TZNAME:GMT
DTSTART:19701025T020000
RRULE:FREQ=YEARLY;BYMONTH=10;BYDAY=-1SU
END:STANDARD
END:VTIMEZONE
BEGIN:VEVENT
UID:6278630:Event:104356
DTSTAMP:20260424T100521Z
SUMMARY:Myddleton Road Winter Festival
DESCRIPTION:\n\nFor more information visit https://bowesandbounds.org/
 events/myddleton-road-winter-festival
DTSTART;TZID=Europe/London:20151206T000000
DTEND;TZID=Europe/London:20151206T180000
CATEGORIES:market, festival
LOCATION:Myddleton Road
WEBSITE:http://www.myddletonroadmarket.co.uk/Myddleton_Road_Market_N22
 /Home.html
URL:http://www.myddletonroadmarket.co.uk/Myddleton_Road_Market_N22/Hom
 e.html
CONTACT:
ORGANIZER;CN="Richard McKeever":https://bowesandbounds.org/profile/3hw
 xkqhdde8gc
ATTACH;FMTTYPE="image/jpeg":http://storage.ning.com/topology/rest/1.0/
 file/get/2287278540?profile=original
ATTENDEE;ROLE=REQ-PARTICIPANT;PARTSTAT=ACCEPTED;RSVP=TRUE;CN="Lindsey 
 Berthoud":https://bowesandbounds.org/profile/LindseyClarke
ATTENDEE;ROLE=REQ-PARTICIPANT;PARTSTAT=ACCEPTED;RSVP=TRUE;CN="Helen My
 ers":https://bowesandbounds.org/profile/HelenMyers
ATTENDEE;ROLE=REQ-PARTICIPANT;PARTSTAT=ACCEPTED;RSVP=TRUE;CN="sue cole
 s":https://bowesandbounds.org/profile/suecoles
ATTENDEE;ROLE=REQ-PARTICIPANT;PARTSTAT=ACCEPTED;RSVP=TRUE;CN=Lucia:htt
 ps://bowesandbounds.org/profile/Lucia
ATTENDEE;ROLE=REQ-PARTICIPANT;PARTSTAT=ACCEPTED;RSVP=TRUE;CN="Richard 
 McKeever":https://bowesandbounds.org/profile/3hwxkqhdde8gc
END:VEVENT
END:VCALENDAR
