BEGIN:VCALENDAR
PRODID:NingEventWidget-v1
VERSION:2.0
METHOD:PUBLISH
BEGIN:VTIMEZONE
TZID:Europe/London
X-LIC-LOCATION:Europe/London
BEGIN:DAYLIGHT
TZOFFSETFROM:+0000
TZOFFSETTO:+0100
TZNAME:BST
DTSTART:19700329T010000
RRULE:FREQ=YEARLY;BYMONTH=3;BYDAY=-1SU
END:DAYLIGHT
BEGIN:STANDARD
TZOFFSETFROM:+0100
TZOFFSETTO:+0000
TZNAME:GMT
DTSTART:19701025T020000
RRULE:FREQ=YEARLY;BYMONTH=10;BYDAY=-1SU
END:STANDARD
END:VTIMEZONE
BEGIN:VEVENT
UID:6278630:Event:78636
DTSTAMP:20260424T144438Z
SUMMARY:N21 Festival Summer Exhibition 2014
DESCRIPTION:\n\nFor more information visit https://bowesandbounds.org/
 events/n21-festival-summer-exhibition-2014
DTSTART;TZID=Europe/London:20140705T100000
DTEND;TZID=Europe/London:20140705T180000
CATEGORIES:art, exhibition
LOCATION:Winchmore Hill
WEBSITE:http://www.n21.net/
URL:http://www.n21.net/
CONTACT:
ORGANIZER:Administrator
ATTACH;FMTTYPE="image/jpeg":http://storage.ning.com/topology/rest/1.0/
 file/get/2287251818?profile=original
ATTENDEE;ROLE=REQ-PARTICIPANT;PARTSTAT=ACCEPTED;RSVP=TRUE;CN="Richard 
 McKeever":https://bowesandbounds.org/profile/3hwxkqhdde8gc
END:VEVENT
END:VCALENDAR
