BEGIN:VCALENDAR
PRODID:NingEventWidget-v1
VERSION:2.0
METHOD:PUBLISH
BEGIN:VTIMEZONE
TZID:Europe/London
X-LIC-LOCATION:Europe/London
BEGIN:DAYLIGHT
TZOFFSETFROM:+0000
TZOFFSETTO:+0100
TZNAME:BST
DTSTART:19700329T010000
RRULE:FREQ=YEARLY;BYMONTH=3;BYDAY=-1SU
END:DAYLIGHT
BEGIN:STANDARD
TZOFFSETFROM:+0100
TZOFFSETTO:+0000
TZNAME:GMT
DTSTART:19701025T020000
RRULE:FREQ=YEARLY;BYMONTH=10;BYDAY=-1SU
END:STANDARD
END:VTIMEZONE
BEGIN:VEVENT
UID:6278630:Event:41191
DTSTAMP:20260425T024727Z
SUMMARY:N21 Film Festival
DESCRIPTION:Commemorating the centenary of Henrietta Cresswell’s boo
 k,“Winchmore Hill : Memories of a Lost Village”, and bringing back
  cinema to Winchmore Hill for the first time in 53 years, this unique 
 Film Festival explores Winchmore Hill’s transition from a village to
  a suburb.\nThis is a chance to view archive footage dating back from 
 the 1930s, Hollywood blockbusters, award winning short films and docum
 entaries on the big screen in Winchmore Hill. There will also be intro
 ductions and Q&As from film makers and film industry professionals\n\n
 Join us between the 16th and 22nd June for a unique series of live, co
 mmunal screenings in the suburbs.\nMore information and programme of s
 creenings\n \n \n\nFor more information visit https://bowesandbounds
 .org/events/n21-film-festival
DTSTART;TZID=Europe/London:20120616T000000
DTEND;TZID=Europe/London:20120622T235900
CATEGORIES:cinema, festival
LOCATION:Winchmore Hill N21
WEBSITE:http://www.n21.net/n21-film-festival-overview-of-films-being-s
 hown-in-winchmore-hill.html
URL:http://www.n21.net/n21-film-festival-overview-of-films-being-shown
 -in-winchmore-hill.html
CONTACT:
ORGANIZER;CN=Administrator:https://bowesandbounds.org/profile/Administ
 rator
ATTACH;FMTTYPE="image/jpeg":http://storage.ning.com/topology/rest/1.0/
 file/get/2287234105?profile=original
ATTENDEE;ROLE=REQ-PARTICIPANT;PARTSTAT=ACCEPTED;RSVP=TRUE;CN=Administr
 ator:https://bowesandbounds.org/profile/Administrator
END:VEVENT
END:VCALENDAR
