BEGIN:VCALENDAR
PRODID:NingEventWidget-v1
VERSION:2.0
METHOD:PUBLISH
BEGIN:VTIMEZONE
TZID:Europe/London
X-LIC-LOCATION:Europe/London
BEGIN:DAYLIGHT
TZOFFSETFROM:+0000
TZOFFSETTO:+0100
TZNAME:BST
DTSTART:19700329T010000
RRULE:FREQ=YEARLY;BYMONTH=3;BYDAY=-1SU
END:DAYLIGHT
BEGIN:STANDARD
TZOFFSETFROM:+0100
TZOFFSETTO:+0000
TZNAME:GMT
DTSTART:19701025T020000
RRULE:FREQ=YEARLY;BYMONTH=10;BYDAY=-1SU
END:STANDARD
END:VTIMEZONE
BEGIN:VEVENT
UID:6278630:Event:139243
DTSTAMP:20260423T113047Z
SUMMARY:N22 Jazz Festival presents: Jazz Jam with Noah Stoneman
DESCRIPTION:Part of the EFG London Jazz Festival #wearejazz\nJam Sess
 ion lead by young jazz pianist Noah Stoneman. First set by swinging ho
 use band, second set open to all ages and ability so bring your instru
 ments!\nNoah Stoneman is a London based pianist/organist and former fi
 nalist in the BBC Young Musician of the Year competition. He performs 
 regularly around the country with various projects such as electronic 
 trio Zeñel, the Alex Ridout Quintet and his own trio under his name. 
 He has also performed alongside the likes of Clark Tracey, Gwilym Simc
 ock, Gareth Lockrane, Jean Tussaint and Jim Mullen. Tonight, Noah lead
 s a swinging quartet playing mature and polished renditions of standar
 ds from the classic repertoire of the Jazz songbook. Followed by secon
 d set open to musicians of all ages and ability so bring your instrume
 nts!\nFree to attend, Suitable for families.\n\nFor more information v
 isit https://bowesandbounds.org/events/n22-jazz-festival-presents-jazz
 -jam-with-noah-stoneman
DTSTART;TZID=Europe/London:20191120T190000
DTEND;TZID=Europe/London:20191120T234500
CATEGORIES:music
LOCATION:KaramelN22
WEBSITE:https://www.musicglue.com/karamel/events/2019-11-20-jazz-jam-w
 ith-noah-stoneman-karamel
URL:https://www.musicglue.com/karamel/events/2019-11-20-jazz-jam-with-
 noah-stoneman-karamel
CONTACT:020 3146 8775
ORGANIZER;CN="Collage Arts":https://bowesandbounds.org/profile/Collage
 Arts105
ATTACH;FMTTYPE="image/jpeg":https://storage.ning.com/topology/rest/1.0
 /file/get/3712788862?profile=original
ATTENDEE;ROLE=REQ-PARTICIPANT;PARTSTAT=ACCEPTED;RSVP=TRUE;CN="Collage 
 Arts":https://bowesandbounds.org/profile/CollageArts105
END:VEVENT
END:VCALENDAR
