BEGIN:VCALENDAR
PRODID:NingEventWidget-v1
VERSION:2.0
METHOD:PUBLISH
BEGIN:VTIMEZONE
TZID:Europe/London
X-LIC-LOCATION:Europe/London
BEGIN:DAYLIGHT
TZOFFSETFROM:+0000
TZOFFSETTO:+0100
TZNAME:BST
DTSTART:19700329T010000
RRULE:FREQ=YEARLY;BYMONTH=3;BYDAY=-1SU
END:DAYLIGHT
BEGIN:STANDARD
TZOFFSETFROM:+0100
TZOFFSETTO:+0000
TZNAME:GMT
DTSTART:19701025T020000
RRULE:FREQ=YEARLY;BYMONTH=10;BYDAY=-1SU
END:STANDARD
END:VTIMEZONE
BEGIN:VEVENT
UID:6278630:Event:132622
DTSTAMP:20260424T142336Z
SUMMARY:N22 Open Studios
DESCRIPTION:OPEN STUDIOS 2018 will be on the weekend of 28 to 30 Septe
 mber 2018\nNow in its 22nd year theÂ N22 Open StudiosÂ returns bigger 
 than ever.\n\nThe Collage Artspaces can be found in the Wood Green Cul
 tural Quarter. All are less than 10 minutes walk from Wood Green tube 
 station on the Piccadilly Line.Â There are over 200 artists working in
  the Collage Artspaces. You will find a great diversity in the work in
 cluding painters, print-makers, photographers, designer-maker, jewelle
 rs, sculptors and ceramists. Some of the artists offerÂ hands-on sessi
 ons. Many work to commission. So, whether you are looking to liven-up 
 your wardrobe or your living space, or you are keen to come and meet t
 he artists, we hope you are able to come and join usâ€¦\nFreeÂ Entry â
 €“Â  childrenÂ welcome.Â Â RSVPÂ usingÂ eventbrite\nFor more informati
 on and to preview the artists work, visitÂ www.n22openstudios.com.\n\n
 Collage Arts, the promoter of the N22 Open Studios, has been at the co
 rnerstone of the Wood Green Cultural Quarter for over 30 years. During
  this time they have created opportunities for thousands of creative p
 eople to get established.Â  Our programmes show that diversity has bee
 n indelible etched on the ethos of Collage.\nThe artists and organisat
 ions in the Cultural Quarter make Wood Green a unique and exciting pla
 ce to explore.\nThe open studios spread across fourÂ Collage Artspaces
  over the entire weekend:\nCHOCOLATE FACTORY 1Â Â / CLARENDON ROAD, LO
 NDON N22 6XJÂ \nKARAMELÂ / COLLAGE ARTSPACE 1, COBURG ROAD, LONDON N22
  6UJ\nCOLLAGE ARTSPACE 3Â / 40 CUMBERLAND ROAD, LONDON N22 7SG\nCOLLAG
 E ARTSPACE 4Â / 191 HIGH ROAD, WOOD GREEN N22 6DZ\nÂ \n\n\n\n\n\nFor m
 ore information visit https://bowesandbounds.org/events/n22-open-studi
 os-2
DTSTART;TZID=Europe/London:20180929T120000
DTEND;TZID=Europe/London:20180930T180000
CATEGORIES:exhibition, open, studios
LOCATION:Collage Artspaces
WEBSITE:http://www.n22openstudios.com
URL:http://www.n22openstudios.com
CONTACT:020 8365 7500
ORGANIZER:Collage Artspaces
ATTACH;FMTTYPE="image/jpeg":http://storage.ning.com/topology/rest/1.0/
 file/get/2287330593?profile=original
ATTENDEE;ROLE=REQ-PARTICIPANT;PARTSTAT=ACCEPTED;RSVP=TRUE;CN="Events a
 t Karamel":https://bowesandbounds.org/profile/PhilSherman
END:VEVENT
END:VCALENDAR
