BEGIN:VCALENDAR
PRODID:NingEventWidget-v1
VERSION:2.0
METHOD:PUBLISH
BEGIN:VTIMEZONE
TZID:Europe/London
X-LIC-LOCATION:Europe/London
BEGIN:DAYLIGHT
TZOFFSETFROM:+0000
TZOFFSETTO:+0100
TZNAME:BST
DTSTART:19700329T010000
RRULE:FREQ=YEARLY;BYMONTH=3;BYDAY=-1SU
END:DAYLIGHT
BEGIN:STANDARD
TZOFFSETFROM:+0100
TZOFFSETTO:+0000
TZNAME:GMT
DTSTART:19701025T020000
RRULE:FREQ=YEARLY;BYMONTH=10;BYDAY=-1SU
END:STANDARD
END:VTIMEZONE
BEGIN:VEVENT
UID:6278630:Event:251851
DTSTAMP:20260424T151523Z
SUMMARY:N22 Open Studios!
DESCRIPTION:Collage Arts welcomes you to The N22 Open Studios 2025.\n
 N22 OPEN STUDIOS 2025 POWERED BY COLLAGE ARTS\n\nSave the date! - Publ
 ic days: Saturday 15 and Sunday 16 November, noon-6pm\nPrivate view T
 hursday 13 November, 6-9pm at Karamel, 4 Coburg Road, N22 6UJ\nEmail 
 info@collage-arts.org to request a place at the Private View.\n\nHIGH
 LIGHTS\n40 artists exhibiting at the Karamel Gallery from Thursday 13t
 h November 2025\n30 ARTISTS AND MAKERS (CAS5)Discover new art and crea
 tivity within the Artist Studios & Artspaces in N22. This means you ca
 n visit artists, see exhibitions. Entry to N22 Open Studios is free.\n
 Now in its 25th year, the N22 Open Studio is a celebration of the crea
 tive community's unique contribution to Wood Green. It is a chance to
  meet artists in their studios, talk to them about their work and even
  purchase something for your home or wardrobe.\nMeet local artists, ma
 kers, and performers — from painters to sculptors, musicians to wres
 tlers — all bringing the energy to North London’s most creative sp
 ace.\nDonations to our community arts programmes are welcome. For over
  40 years, Collage Arts has been the creative heart of Wood Green.\n\n
 Open Studios will take place across multiple venues, locations and dat
 es:Karamel - Collage Artspace 1 [Group exhibition], 4 Coburg Road N22 
 6UJ. SAT and SUNMcQueens Theatre - Collage Artspace 1 [Hustle Wrestlin
 g], 4 Coburg Road N22 6UJ. SAT and SUN. ( Sunday Show at 6pm - ticket
 s are on Musicglue.com/karamel)Collage Artspace 5 - [Studios] Unit 3, 
 44 Coburg Road N22 6TZ. SAT and SUN.\n\nN22 Corridor Gallery (Street v
 iew only)\nLarge artworks on display via Floor to Ceiling glass panels
 .\n2a Mary Neuner Road, N8 0FA. Opposite St William Marketing Suite\nV
 isit the Artists directory at: www.n22openstudios.com\n\nFor more inf
 ormation visit https://bowesandbounds.org/events/n22-open-studios-6
DTSTART;TZID=Europe/London:20251116T130000
DTEND;TZID=Europe/London:20251116T180000
CATEGORIES:open, studios
LOCATION:Karamel
WEBSITE:https://www.musicglue.com/karamel
URL:https://www.musicglue.com/karamel
CONTACT:08000092970
ORGANIZER;CN="Collage Artspaces":https://bowesandbounds.org/profile/Co
 llage_Arts
ATTACH;FMTTYPE="image/jpeg":https://storage.ning.com/topology/rest/1.0
 /file/get/13746938474?profile=original
ATTENDEE;ROLE=REQ-PARTICIPANT;PARTSTAT=ACCEPTED;RSVP=TRUE;CN="Collage 
 Artspaces":https://bowesandbounds.org/profile/Collage_Arts
END:VEVENT
END:VCALENDAR
