BEGIN:VCALENDAR
PRODID:NingEventWidget-v1
VERSION:2.0
METHOD:PUBLISH
BEGIN:VTIMEZONE
TZID:Europe/London
X-LIC-LOCATION:Europe/London
BEGIN:DAYLIGHT
TZOFFSETFROM:+0000
TZOFFSETTO:+0100
TZNAME:BST
DTSTART:19700329T010000
RRULE:FREQ=YEARLY;BYMONTH=3;BYDAY=-1SU
END:DAYLIGHT
BEGIN:STANDARD
TZOFFSETFROM:+0100
TZOFFSETTO:+0000
TZNAME:GMT
DTSTART:19701025T020000
RRULE:FREQ=YEARLY;BYMONTH=10;BYDAY=-1SU
END:STANDARD
END:VTIMEZONE
BEGIN:VEVENT
UID:6278630:Event:238665
DTSTAMP:20260422T051218Z
SUMMARY:NEW! Flash Fiction Workout - write short, short stories.
DESCRIPTION:NEW!! Flash Fiction Workout with Giovanna Iozzi\n‘Flash 
 is its own form, uniquely suited to innovation and experimentation…T
 hat’s what makes it so exciting to read and write. Flash fiction, do
 ne well, can be so mind-bending and fresh.’ Kathy Fish\nIn this new 
 class, we will explore the exciting short form of Flash Fiction using 
 quirky themes, concepts and visual writing prompts. We will:\n\nRead a
  wide range of published Flash pieces from the heart-breaking, funny a
 nd joyful to the experimental, uncanny and weird to analyse the breadt
 h and potential of the form.\nDiscover the best online and print place
 s to publish your work as well as competition opportunities.\nWrite Fl
 ash pieces in class each week, sharing work with the group, as well as
  bringing in pieces worked on at home.\n\nThis course is ideal for gen
 erating lots of new material. It will bring concision, vibrancy and wo
 nder to your work and welcomes all levels of writer.\nWednesday mornin
 gs: 10.30am-1pm. Jan 26, Feb 2, 9 (half term) Feb 23, March 2, 9. £1
 25. Email kate@collage-arts.org to reserve your place and receive a pa
 yment link. Virtual Writing Room via ZOOM.\n\nFor more information vis
 it https://bowesandbounds.org/events/new-flash-fiction-workout-write-s
 hort-short-stories
DTSTART;TZID=Europe/London:20220126T103000
DTEND;TZID=Europe/London:20220126T130000
CATEGORIES:"short fiction workshop", "creative writing online", "write
  flash fiction", "get the story down"
LOCATION:Zoom Online from Collage Writing Room
WEBSITE:http://collagewritingroom.com/spring-programme/
URL:http://collagewritingroom.com/spring-programme/
CONTACT:
ORGANIZER:Carmel for Collage Writing Room
ATTACH;FMTTYPE="image/jpeg":https://storage.ning.com/topology/rest/1.0
 /file/get/9917838862?profile=original
ATTENDEE;ROLE=REQ-PARTICIPANT;PARTSTAT=ACCEPTED;RSVP=TRUE;CN="c p shor
 tall":https://bowesandbounds.org/profile/3j09t7wiq9lkd
END:VEVENT
END:VCALENDAR
