BEGIN:VCALENDAR
PRODID:NingEventWidget-v1
VERSION:2.0
METHOD:PUBLISH
BEGIN:VTIMEZONE
TZID:Europe/London
X-LIC-LOCATION:Europe/London
BEGIN:DAYLIGHT
TZOFFSETFROM:+0000
TZOFFSETTO:+0100
TZNAME:BST
DTSTART:19700329T010000
RRULE:FREQ=YEARLY;BYMONTH=3;BYDAY=-1SU
END:DAYLIGHT
BEGIN:STANDARD
TZOFFSETFROM:+0100
TZOFFSETTO:+0000
TZNAME:GMT
DTSTART:19701025T020000
RRULE:FREQ=YEARLY;BYMONTH=10;BYDAY=-1SU
END:STANDARD
END:VTIMEZONE
BEGIN:VEVENT
UID:6278630:Event:138245
DTSTAMP:20260420T015038Z
SUMMARY:New local POETRY COURSE with inspirational award-winning poet 
 Paul Lyalls
DESCRIPTION:New local POETRY COURSE with inspirational award-winning p
 oet Paul Lyalls. Every Monday evening from Sept 30.\n'More entertainin
 g than a night at the pub!'\nPaul Lyall's 6-week poetry course for Har
 ingey Literature Live is back! This course is designed for everyone, f
 rom beginners who are keen to start writing poetry to prose writers wh
 o want to give their work some energy and precision.\n'Paul is knowled
 geable, encouraging, professional and easy going. The classes are ener
 gising and enable everyone to comfortably share their writing and humo
 ur. The group dynamic is excellent and we laugh a lot.'Lykke, Poetry W
 riting Student\nCOURSE INFO: Finding the Poem: 6.45pm to 9.15pm; dates
  Sept 30, Oct 7, 14, (half term), 28, Nov 4, 11; cost £99; venue Writ
 ing Room, Cumberland Road, N22.\nThis is a course for anyone who wants
  to liberate their creativity and immerse themselves in the joy of lan
 guage. Playful, fun, entertaining, enlightening – explore your word 
 power with Paul Lyalls. A note to prose writers: have you ever wondere
 d what it is like to write in the poetic form? Perhaps you write in pr
 ose automatically, but would like to try to use language in another wa
 y. If your fiction needs a lift, if your life-writing needs lilt, if y
 our central characters don’t quite sing (or even if they do!) you re
 ally can free your writing through poetry!\nhttp://haringeyliteraturel
 ive.com/autumn-course/\n\nFor more information visit https://bowesandb
 ounds.org/events/new-local-poetry-course-with-inspirational-award-winn
 ing-poet
DTSTART;TZID=Europe/London:20190930T180000
DTEND;TZID=Europe/London:20191111T190000
CATEGORIES:"poetry course", "creative writing", "introduction to poetr
 y", "creative writing north london", "poetry workshop"
LOCATION:Wood Green Alexandra Palace North London
WEBSITE:http://haringeyliteraturelive.com/autumn-course/
URL:http://haringeyliteraturelive.com/autumn-course/
CONTACT:
ORGANIZER;CN="Giovanna Iozzi":https://bowesandbounds.org/profile/Giova
 nnaIozzi
ATTACH;FMTTYPE="image/jpeg":https://storage.ning.com/topology/rest/1.0
 /file/get/3425917420?profile=original
ATTENDEE;ROLE=REQ-PARTICIPANT;PARTSTAT=ACCEPTED;RSVP=TRUE;CN="Giovanna
  Iozzi":https://bowesandbounds.org/profile/GiovannaIozzi
END:VEVENT
END:VCALENDAR
