BEGIN:VCALENDAR
PRODID:NingEventWidget-v1
VERSION:2.0
METHOD:PUBLISH
BEGIN:VTIMEZONE
TZID:Europe/London
X-LIC-LOCATION:Europe/London
BEGIN:DAYLIGHT
TZOFFSETFROM:+0000
TZOFFSETTO:+0100
TZNAME:BST
DTSTART:19700329T010000
RRULE:FREQ=YEARLY;BYMONTH=3;BYDAY=-1SU
END:DAYLIGHT
BEGIN:STANDARD
TZOFFSETFROM:+0100
TZOFFSETTO:+0000
TZNAME:GMT
DTSTART:19701025T020000
RRULE:FREQ=YEARLY;BYMONTH=10;BYDAY=-1SU
END:STANDARD
END:VTIMEZONE
BEGIN:VEVENT
UID:6278630:Event:239027
DTSTAMP:20260422T035104Z
SUMMARY:New Poetry Workshop: Finding the Poem (Set 4) with Paul Lyalls
DESCRIPTION:NEW!! Finding the Poem Set 4 with Paul Lyalls\nIf you enjo
 y finding poems (and let’s face it who doesn’t?) Then FTP4 “Writ
 ers on the storm” is another ride into a series of original ideas an
 d surefire ways to explore them. Set against a frontier-pushing backdr
 op, drawing on life experience and Social Zones in a supportive and fu
 n group sharing group. A way to develop themes, characters and be expe
 rimental with words and style.’\nEnjoy this set of 6 workshops, one 
 of 4 separate sets which can be taken in any order.\n1) A view with a 
 room.\n2) The spaces in-between\n3) Guilty pleasures\n4) Life through 
 a lens\n5) It’s still Rock and Rule to me\n6) DNA (Do Not Ask)\nA no
 te to prose writers: have you ever wondered what it is like to write i
 n the poetic form? Perhaps you write in prose automatically, but would
  like to try to use language in another way. If your fiction needs a l
 ift, if your life-writing needs lilt, if your central characters don
 t quite sing (or even if they do!) you can free your writing through 
 poetry.\nMonday evenings: 6.30-9pm. Feb 21, 28, March 7, 14, 21, 28.\n
 £125 Email kate@collage-arts.org to register and be sent a payment li
 nk. Virtual Writing Room via ZOOM.\n\nFor more information visit https
 ://bowesandbounds.org/events/new-poetry-workshop-finding-the-poem-set-
 4-with-paul-lyalls
DTSTART;TZID=Europe/London:20220221T183000
DTEND;TZID=Europe/London:20220221T210000
CATEGORIES:"online poetry workshop"
LOCATION:Zoom Online from Collage Writing Room
WEBSITE:http://collagewritingroom.com/spring-programme/
URL:http://collagewritingroom.com/spring-programme/
CONTACT:
ORGANIZER;CN="c p shortall":https://bowesandbounds.org/profile/3j09t7w
 iq9lkd
ATTACH;FMTTYPE="image/jpeg":https://storage.ning.com/topology/rest/1.0
 /file/get/10038822272?profile=original
ATTENDEE;ROLE=REQ-PARTICIPANT;PARTSTAT=ACCEPTED;RSVP=TRUE;CN="c p shor
 tall":https://bowesandbounds.org/profile/3j09t7wiq9lkd
END:VEVENT
END:VCALENDAR
