BEGIN:VCALENDAR
PRODID:NingEventWidget-v1
VERSION:2.0
METHOD:PUBLISH
BEGIN:VTIMEZONE
TZID:Europe/London
X-LIC-LOCATION:Europe/London
BEGIN:DAYLIGHT
TZOFFSETFROM:+0000
TZOFFSETTO:+0100
TZNAME:BST
DTSTART:19700329T010000
RRULE:FREQ=YEARLY;BYMONTH=3;BYDAY=-1SU
END:DAYLIGHT
BEGIN:STANDARD
TZOFFSETFROM:+0100
TZOFFSETTO:+0000
TZNAME:GMT
DTSTART:19701025T020000
RRULE:FREQ=YEARLY;BYMONTH=10;BYDAY=-1SU
END:STANDARD
END:VTIMEZONE
BEGIN:VEVENT
UID:6278630:Event:140111
DTSTAMP:20260423T062402Z
SUMMARY:New River People at Bowes Park Folk Club
DESCRIPTION:Heartfelt Ballards, mortuary blues lone highways and shatt
 ered dreams.\nMediterranean-inspired menu if you'd like a meal.\n£5 e
 ntry\n\nFor more information visit https://bowesandbounds.org/events/n
 ew-river-people-at-bowes-park-folk-club
DTSTART;TZID=Europe/London:20200206T194500
DTEND;TZID=Europe/London:20200206T230000
CATEGORIES:folk, club
LOCATION:Mum's Bistro
WEBSITE:
URL:
CONTACT:07774147296
ORGANIZER;CN="Anne Heagney":https://bowesandbounds.org/profile/AnneHea
 gney
ATTACH;FMTTYPE="image/jpeg":https://storage.ning.com/topology/rest/1.0
 /file/get/3825826800?profile=original
ATTENDEE;ROLE=REQ-PARTICIPANT;PARTSTAT=ACCEPTED;RSVP=TRUE;CN="Anne Hea
 gney":https://bowesandbounds.org/profile/AnneHeagney
END:VEVENT
END:VCALENDAR
