BEGIN:VCALENDAR
PRODID:NingEventWidget-v1
VERSION:2.0
METHOD:PUBLISH
BEGIN:VTIMEZONE
TZID:Europe/London
X-LIC-LOCATION:Europe/London
BEGIN:DAYLIGHT
TZOFFSETFROM:+0000
TZOFFSETTO:+0100
TZNAME:BST
DTSTART:19700329T010000
RRULE:FREQ=YEARLY;BYMONTH=3;BYDAY=-1SU
END:DAYLIGHT
BEGIN:STANDARD
TZOFFSETFROM:+0100
TZOFFSETTO:+0000
TZNAME:GMT
DTSTART:19701025T020000
RRULE:FREQ=YEARLY;BYMONTH=10;BYDAY=-1SU
END:STANDARD
END:VTIMEZONE
BEGIN:VEVENT
UID:6278630:Event:114995
DTSTAMP:20260422T194228Z
SUMMARY:New River Walk
DESCRIPTION:New River Walk The southern half of the New River from Enf
 ield to Islington New River Head.\nSunday 26 June. Start 10am, guided,
  free. You can leave the walk at intermediate points.\nFull details in
 cluding route, nearby stations and historical notes at: http://www.new
 river.org.uk\n\n\nFor more information visit https://bowesandbounds.or
 g/events/new-river-walk
DTSTART;TZID=Europe/London:20160626T100000
DTEND;TZID=Europe/London:20160626T170000
CATEGORIES:walk
LOCATION:Enfield New River at Crown and Horseshoes pub
WEBSITE:http://www.newriver.org.uk
URL:http://www.newriver.org.uk
CONTACT:07870 157 703 / 07814 546 772
ORGANIZER:Robert Hare, NRAG
ATTACH;FMTTYPE="image/jpeg":http://storage.ning.com/topology/rest/1.0/
 file/get/2287310991?profile=original
ATTENDEE;ROLE=REQ-PARTICIPANT;PARTSTAT=ACCEPTED;RSVP=TRUE;CN="Robert H
 are":https://bowesandbounds.org/profile/RobertHare
END:VEVENT
END:VCALENDAR
