BEGIN:VCALENDAR
PRODID:NingEventWidget-v1
VERSION:2.0
METHOD:PUBLISH
BEGIN:VTIMEZONE
TZID:Europe/London
X-LIC-LOCATION:Europe/London
BEGIN:DAYLIGHT
TZOFFSETFROM:+0000
TZOFFSETTO:+0100
TZNAME:BST
DTSTART:19700329T010000
RRULE:FREQ=YEARLY;BYMONTH=3;BYDAY=-1SU
END:DAYLIGHT
BEGIN:STANDARD
TZOFFSETFROM:+0100
TZOFFSETTO:+0000
TZNAME:GMT
DTSTART:19701025T020000
RRULE:FREQ=YEARLY;BYMONTH=10;BYDAY=-1SU
END:STANDARD
END:VTIMEZONE
BEGIN:VEVENT
UID:6278630:Event:121137
DTSTAMP:20260425T005528Z
SUMMARY:NEW! Saturday Morning English Classes
DESCRIPTION:Join our fun and friendly General English Courses at Gabri
 ella English Language School, North London! Our General English Class
 es in Bounds Green are an ideal way to improve all aspects of your Eng
 lish - speaking, listening, reading, writing, grammar and pronunciatio
 n - in a stimulating learning environment. The classes are perfect fo
 r Intermediate/ Upper Intermediate Students (B1-B2). ****************
 ***************** DAYS: SaturdaysTIMES: 10.30am-12.30pm VENUE: Trini
 ty at Bowes, Palmerston Rd, London N22 8RA PRICES: £12 per hour (mi
 nimum 2 hours) / £80 per month (8 hours)/ First class FREE! \n\nTO B
 OOK: \nCall Sureka on 07984 136 961 or email gabriella.englishschool@
 gmail.com********************************** COURSE DESCRIPTION In th
 is course, you will learn: - To understand and discuss familiar topic
 s such as hobbies, travel, work and lifestyle using the correct vocabu
 lary, grammar and pronunciation. - To deal with most situations arisi
 ng from every day life in London including shopping, banking, telephon
 e calls, emails and more. - To express opinions, ambitions and ideas 
 about the past, present and future **********************************
 **** ABOUT ME: I am Sureka Fernando, a CELTA-qualified, native Engli
 sh teacher with 10 years' experience teaching students from beginners 
 to advanced,\nI named my English school after my daughter, Gabriella, 
 to reflect my dedication and love for teaching English. *************
 ************************* WHAT THE STUDENTS SAY: \"Hi Sureka, I just
  wanted to tell you that I got the result of my first assessment at Un
 i and I got an A. That wouldn't be possible without your help. It was 
 a grammar test for my writing module. You're an amazing teacher and I 
 just wanted to thank you.\" - Francesca Cintura, Italy \"Sureka made 
 the lessons entertaining which kept the pupils involved. We learned qu
 ickly with her and the ambient of the class was awesome!\" - Elias Gar
 cia, Spain \"Sureka is an excellent teacher, knowledgeable, kind and 
 understandable to me and she presented lessons very easily. I made goo
 d progress which helps me in my work. I hope to come back to London an
 d do her classes again.\" - Dinachka Kochkina, Georgia **************
 ************************** I look forward to welcoming you to Gabriel
 la English Language School! \nSureka \nSureka Fernando Director Ga
 briella English Language School\n07984 136 961 \n\nFor more informati
 on visit https://bowesandbounds.org/events/new-saturday-morning-englis
 h-classes
DTSTART;TZID=Europe/London:20170211T103000
DTEND;TZID=Europe/London:20170311T123000
CATEGORIES:english, class, learn, general
LOCATION:Trinity at Bowes, Palmerston Rd, London N22 8RA
WEBSITE:http://www.meetup.com/Learn-English-in-North-London/
URL:http://www.meetup.com/Learn-English-in-North-London/
CONTACT:07984 136 961
ORGANIZER;CN="Sureka Fernando":https://bowesandbounds.org/profile/Sure
 kaFernando
ATTACH;FMTTYPE="image/jpeg":http://storage.ning.com/topology/rest/1.0/
 file/get/2287317718?profile=original
ATTENDEE;ROLE=REQ-PARTICIPANT;PARTSTAT=ACCEPTED;RSVP=TRUE;CN="Sureka F
 ernando":https://bowesandbounds.org/profile/SurekaFernando
END:VEVENT
END:VCALENDAR
