BEGIN:VCALENDAR
PRODID:NingEventWidget-v1
VERSION:2.0
METHOD:PUBLISH
BEGIN:VTIMEZONE
TZID:Europe/London
X-LIC-LOCATION:Europe/London
BEGIN:DAYLIGHT
TZOFFSETFROM:+0000
TZOFFSETTO:+0100
TZNAME:BST
DTSTART:19700329T010000
RRULE:FREQ=YEARLY;BYMONTH=3;BYDAY=-1SU
END:DAYLIGHT
BEGIN:STANDARD
TZOFFSETFROM:+0100
TZOFFSETTO:+0000
TZNAME:GMT
DTSTART:19701025T020000
RRULE:FREQ=YEARLY;BYMONTH=10;BYDAY=-1SU
END:STANDARD
END:VTIMEZONE
BEGIN:VEVENT
UID:6278630:Event:119131
DTSTAMP:20260419T140450Z
SUMMARY:New Year's Day Walk
DESCRIPTION:East Finchley to The Prince pub\nMeet: 1pm at Bounds Green
  tube station, from where we will leave to catch the 102 bus to East F
 inchley.\n\nDistance: 3 miles\n\nFinish: The Prince pub on Bounds Gree
 n Road\n\nFor more information visit https://bowesandbounds.org/events
 /new-year-s-day-walk-2
DTSTART;TZID=Europe/London:20170101T130000
DTEND;TZID=Europe/London:20170101T160000
CATEGORIES:walk
LOCATION:East Finchley
WEBSITE:
URL:
CONTACT:
ORGANIZER;CN="Alison M":https://bowesandbounds.org/profile/AlisonM
ATTACH;FMTTYPE="image/jpeg":http://storage.ning.com/topology/rest/1.0/
 file/get/2287259875?profile=original
ATTENDEE;ROLE=REQ-PARTICIPANT;PARTSTAT=ACCEPTED;RSVP=TRUE;CN="Alison M
 ":https://bowesandbounds.org/profile/AlisonM
END:VEVENT
END:VCALENDAR
