BEGIN:VCALENDAR
PRODID:NingEventWidget-v1
VERSION:2.0
METHOD:PUBLISH
BEGIN:VTIMEZONE
TZID:Europe/London
X-LIC-LOCATION:Europe/London
BEGIN:DAYLIGHT
TZOFFSETFROM:+0000
TZOFFSETTO:+0100
TZNAME:BST
DTSTART:19700329T010000
RRULE:FREQ=YEARLY;BYMONTH=3;BYDAY=-1SU
END:DAYLIGHT
BEGIN:STANDARD
TZOFFSETFROM:+0100
TZOFFSETTO:+0000
TZNAME:GMT
DTSTART:19701025T020000
RRULE:FREQ=YEARLY;BYMONTH=10;BYDAY=-1SU
END:STANDARD
END:VTIMEZONE
BEGIN:VEVENT
UID:6278630:Event:247043
DTSTAMP:20260420T002600Z
SUMMARY:Nick Costley-White Quartet
DESCRIPTION:Doors open 7pm, music starts at 8pm.\n\nBand line-up: Nic
 k Costley-White (guitar), Ross Stanley (piano), Dave Green (bass), 
 Josh Morrison (drums).\n\nNick Costley-White is one of the most in de
 mand guitarists on the UK jazz scene, renowned for a deep understandin
 g of the jazz tradition and repertoire, alongside a virtuosic techniqu
 e and progressive approach to improvising. Nick is lucky enough to hav
 e performed with some of the most renowned jazz musicians in the count
 ry including Stan Sulzmann, Gareth Lockrane, Jason Rebello, Alex Garne
 tt, Mark Taylor, Steve Fishwick, Brandon Allen, Jeff Williams and Asaf
  Sirkis and holds the guitar chair with the London Jazz Orchestra. Nic
 k performs extensively throughout the UK as well as touring in Europe,
  Australia, China and South America.\nNick’s debut album “Detour A
 head” was released in July 2018 to critical acclaim “Costley-White
  proves both his virtuosity and ability to write subtle and engaging t
 unes” (All About Jazz). Nick has also contributed to over a dozen st
 udio albums as a sideman with a variety of jazz groups.Upon graduating
  from the Guildhall School of Music and Drama in 2011 Nick was awarded
  the Yamaha Scholarship for Outstanding Jazz Musicians.\nPianist and o
 rganist Ross Stanley is a Yamaha artist, Hammond endorsee and two ti
 mes winner of a British Jazz Award in the organ category. After being 
 awarded an organ scholarship to Marlborough College, Stanley studied a
 t The Guildhall School of Music and Drama, and since then his musical 
 skills have kept him in high demand, seeing him work with musicians an
 d ensembles such as Eddie Gomez, Seamus Blake, the Hamish Stuart Band,
  BBC Concert Orchestra, Nostalgia 77 Octet, Tom Jones, Alfie Boe, Mace
 o Parker, and Pino Palladino.\n\nKaramel - 4 Coburg Road, London N22 6
 UJ The Karamel vegan kitchen will be serving food until 9.30pm. Email
 karamel8775@gmail.com to book a table.\nDoors open 7pm, music starts
  at 8pm.\n£5 (advance), £10 OTD\n\nFor more information visit https:
 //bowesandbounds.org/events/nick-costley-white-quartet
DTSTART;TZID=Europe/London:20240404T200000
DTEND;TZID=Europe/London:20240404T220000
CATEGORIES:jazz, music, live
LOCATION:Karamel, 4 Coburg Road N22 6UJ
WEBSITE:https://www.musicglue.com/karamel
URL:https://www.musicglue.com/karamel
CONTACT:
ORGANIZER;CN="Collage Artspaces":https://bowesandbounds.org/profile/Co
 llage_Arts
ATTACH;FMTTYPE="image/jpeg":https://storage.ning.com/topology/rest/1.0
 /file/get/12419726457?profile=original
ATTENDEE;ROLE=REQ-PARTICIPANT;PARTSTAT=ACCEPTED;RSVP=TRUE;CN="Collage 
 Artspaces":https://bowesandbounds.org/profile/Collage_Arts
END:VEVENT
END:VCALENDAR
