BEGIN:VCALENDAR
PRODID:NingEventWidget-v1
VERSION:2.0
METHOD:PUBLISH
BEGIN:VTIMEZONE
TZID:Europe/London
X-LIC-LOCATION:Europe/London
BEGIN:DAYLIGHT
TZOFFSETFROM:+0000
TZOFFSETTO:+0100
TZNAME:BST
DTSTART:19700329T010000
RRULE:FREQ=YEARLY;BYMONTH=3;BYDAY=-1SU
END:DAYLIGHT
BEGIN:STANDARD
TZOFFSETFROM:+0100
TZOFFSETTO:+0000
TZNAME:GMT
DTSTART:19701025T020000
RRULE:FREQ=YEARLY;BYMONTH=10;BYDAY=-1SU
END:STANDARD
END:VTIMEZONE
BEGIN:VEVENT
UID:6278630:Event:115170
DTSTAMP:20260422T135557Z
SUMMARY:Nicola
DESCRIPTION:Charity String Orchestra Concert\n\nWinchmore Strings Orch
 estra is performing a beautiful programme of some passionate Spanish c
 omposers, a funny toe tapping Hoe Down piece, and with two young profe
 ssional violinists, the epic Bachs Double Violin concerto, et al.\n\nT
 his is not one to miss.\nTickets on the door.\nSaturday 9th July 7.30p
 m\n\nWinchmore Hill\nMethodist Church\nGreen lanes\nN13 4EP\nJust befo
 re Sainsburys in Winchmore Hill.\nParking free on surrounding streets.
 \n\nFor more information visit https://bowesandbounds.org/events/nicol
 a
DTSTART;TZID=Europe/London:20160709T193000
DTEND;TZID=Europe/London:20160709T213000
CATEGORIES:charity, string, orchestra, concert
LOCATION:Winchmore Hill Methodist Church Green Lanes N13 4EP
WEBSITE:
URL:
CONTACT:
ORGANIZER;CN="N S":https://bowesandbounds.org/profile/DrNicolaSmith
ATTACH;FMTTYPE="image/jpeg":http://storage.ning.com/topology/rest/1.0/
 file/get/2287312326?profile=original
ATTENDEE;ROLE=REQ-PARTICIPANT;PARTSTAT=ACCEPTED;RSVP=TRUE;CN="N S":htt
 ps://bowesandbounds.org/profile/DrNicolaSmith
END:VEVENT
END:VCALENDAR
