BEGIN:VCALENDAR
PRODID:NingEventWidget-v1
VERSION:2.0
METHOD:PUBLISH
BEGIN:VTIMEZONE
TZID:Europe/London
X-LIC-LOCATION:Europe/London
BEGIN:DAYLIGHT
TZOFFSETFROM:+0000
TZOFFSETTO:+0100
TZNAME:BST
DTSTART:19700329T010000
RRULE:FREQ=YEARLY;BYMONTH=3;BYDAY=-1SU
END:DAYLIGHT
BEGIN:STANDARD
TZOFFSETFROM:+0100
TZOFFSETTO:+0000
TZNAME:GMT
DTSTART:19701025T020000
RRULE:FREQ=YEARLY;BYMONTH=10;BYDAY=-1SU
END:STANDARD
END:VTIMEZONE
BEGIN:VEVENT
UID:6278630:Event:98844
DTSTAMP:20260423T191743Z
SUMMARY:Night Bus N91 on Diversion via Alderman's Hill for FOUR weeks
DESCRIPTION:TfL Notice of Event published on 17th July\nOwing to Thame
 s water works in Wilmer Way, Bus Route N91 will be temporarily diverte
 d towards Trafalgar Square via Aldermans Hill, Green Lanes and Bowes R
 oad to Arnos Grove LUL (then Line of Route) , instead of Powys Lane an
 d Wilmer Way.\n\n\n\n\nThe original Tfl Notice of event was for TWO we
 eks ending 17th August\n\n\nFor more information visit https://bowesan
 dbounds.org/events/night-bus-n91-on-diversion-via-alderman-s-hill-for-
 two-weeks
DTSTART;TZID=Europe/London:20150803T190000
DTEND;TZID=Europe/London:20150831T063000
CATEGORIES:nightbus, diversion, n91
LOCATION:Arnos Grove, Cockfosters
WEBSITE:http://www.londonbusroutes.net/times/N091.htm
URL:http://www.londonbusroutes.net/times/N091.htm
CONTACT:
ORGANIZER;CN="Donald Smith":https://bowesandbounds.org/profile/DonaldS
 mith
ATTACH;FMTTYPE="image/jpeg":
END:VEVENT
END:VCALENDAR
