BEGIN:VCALENDAR
PRODID:NingEventWidget-v1
VERSION:2.0
METHOD:PUBLISH
BEGIN:VTIMEZONE
TZID:Europe/London
X-LIC-LOCATION:Europe/London
BEGIN:DAYLIGHT
TZOFFSETFROM:+0000
TZOFFSETTO:+0100
TZNAME:BST
DTSTART:19700329T010000
RRULE:FREQ=YEARLY;BYMONTH=3;BYDAY=-1SU
END:DAYLIGHT
BEGIN:STANDARD
TZOFFSETFROM:+0100
TZOFFSETTO:+0000
TZNAME:GMT
DTSTART:19701025T020000
RRULE:FREQ=YEARLY;BYMONTH=10;BYDAY=-1SU
END:STANDARD
END:VTIMEZONE
BEGIN:VEVENT
UID:6278630:Event:131075
DTSTAMP:20260425T031936Z
SUMMARY:Night of Alternative Folk + Poetry
DESCRIPTION:The 4th edition of Notes from Underground, plans to contin
 ue exploring and discovering the deepest layers of the London artistic
  labyrinth, revealing some of the most unique, interesting and real ar
 tists in the Alternative Folk and Poetry scene.\nThis month the night 
 will be hosted by Richie Phillips.\nArtists\nFrederick Snow (The Princ
 e of Chameleonic Chancon Cabaret singers) Jeremy E Tuplin (Poet/Singer
 /Storyteller/Astronaut of the the stretching spheres of Folk) Peter Do
 olan (Master of performance poetry/folk-punk captain of the night) Cat
 herine Rudie (Queen of quirkiness folk/voice of the hills and urban co
 nnections) Richie Phillips (Captain singer-songwriter of longing, trut
 hfulness and emotion)\n£5 entry.\nPre-Show Happy Hour 5-7pm\nOFFER: B
 ring 5 guests and get a FREE drink! Bring 10 guests and one guest gets
  in free! Join our email list (at the bar) and get entered into a priz
 e draw at the end of the month.\nSuperb vegan food available in one of
  the Cultural Hubs of Northern London.\nKaramel is a Time Out London 2
 018 Award Winning restaurant in Wood Green.  It is a unique vegan spa
 ce in the heart of Wood Green’s Cultural Quarter and is the centre p
 oint of the Chocolate Factory studios. Enjoy good quality fresh, affor
 dable and hearty breakfasts, and world food buffets.  We aim to satis
 fy the most critical beer drinker with our quality craft vegan beers f
 rom local or micro-breweries on tap.\nIt is open Mon-Sun and hosts Jaz
 z every Thursday evening and presents singer/songwriters, alternative 
 folk and poetry and emerging artists on Friday nights.\nKid and Family
  Friendly Vegan Space\n\n\nFor more information visit https://bowesand
 bounds.org/events/night-of-alternative-folk-poetry
DTSTART;TZID=Europe/London:20180511T180000
DTEND;TZID=Europe/London:20180512T010000
CATEGORIES:live, music, haringey, spoken, word, poetry, singer, song-w
 riter, emerging, artists, vegan, vegetarian, free, "alt+folk", "alt+po
 etry", alternative
LOCATION:Karamel London N22
WEBSITE:http://www.karamel.london
URL:http://www.karamel.london
CONTACT:020 8829 8989
ORGANIZER;CN="Alan Drummer":https://bowesandbounds.org/profile/AlanDru
 mmer
ATTACH;FMTTYPE="image/jpeg":http://storage.ning.com/topology/rest/1.0/
 file/get/2287325541?profile=original
ATTENDEE;ROLE=REQ-PARTICIPANT;PARTSTAT=ACCEPTED;RSVP=TRUE;CN="Alan Dru
 mmer":https://bowesandbounds.org/profile/AlanDrummer
END:VEVENT
END:VCALENDAR
