BEGIN:VCALENDAR
PRODID:NingEventWidget-v1
VERSION:2.0
METHOD:PUBLISH
BEGIN:VTIMEZONE
TZID:Europe/London
X-LIC-LOCATION:Europe/London
BEGIN:DAYLIGHT
TZOFFSETFROM:+0000
TZOFFSETTO:+0100
TZNAME:BST
DTSTART:19700329T010000
RRULE:FREQ=YEARLY;BYMONTH=3;BYDAY=-1SU
END:DAYLIGHT
BEGIN:STANDARD
TZOFFSETFROM:+0100
TZOFFSETTO:+0000
TZNAME:GMT
DTSTART:19701025T020000
RRULE:FREQ=YEARLY;BYMONTH=10;BYDAY=-1SU
END:STANDARD
END:VTIMEZONE
BEGIN:VEVENT
UID:6278630:Event:130994
DTSTAMP:20260425T041544Z
SUMMARY:NO Meditation Class on TUESDAY 8th OF MAY
DESCRIPTION:Hi all,\nThe meditation class this Tuesday 8th of May is c
 ancelled. \nIt starts again next week as usual\n\nRegards,\nBoyan\nww
 w.boyanm.com\n\nFor more information visit https://bowesandbounds.org/
 events/no-meditation-class-on-tuesday-8th-of-may
DTSTART;TZID=Europe/London:20180508T190000
DTEND;TZID=Europe/London:20180508T200000
CATEGORIES:meditation, mindfulness
LOCATION:Lordship Hub, Lordship Rec
WEBSITE:https://lordshiphub.org.uk/
URL:https://lordshiphub.org.uk/
CONTACT:07543824928
ORGANIZER;CN="Boyan Milouchev":https://bowesandbounds.org/profile/Boya
 nMilouchev
ATTACH;FMTTYPE="image/jpeg":http://storage.ning.com/topology/rest/1.0/
 file/get/2287323744?profile=original
ATTENDEE;ROLE=REQ-PARTICIPANT;PARTSTAT=ACCEPTED;RSVP=TRUE;CN="Boyan Mi
 louchev":https://bowesandbounds.org/profile/BoyanMilouchev
END:VEVENT
END:VCALENDAR
