BEGIN:VCALENDAR
PRODID:NingEventWidget-v1
VERSION:2.0
METHOD:PUBLISH
BEGIN:VTIMEZONE
TZID:Europe/London
X-LIC-LOCATION:Europe/London
BEGIN:DAYLIGHT
TZOFFSETFROM:+0000
TZOFFSETTO:+0100
TZNAME:BST
DTSTART:19700329T010000
RRULE:FREQ=YEARLY;BYMONTH=3;BYDAY=-1SU
END:DAYLIGHT
BEGIN:STANDARD
TZOFFSETFROM:+0100
TZOFFSETTO:+0000
TZNAME:GMT
DTSTART:19701025T020000
RRULE:FREQ=YEARLY;BYMONTH=10;BYDAY=-1SU
END:STANDARD
END:VTIMEZONE
BEGIN:VEVENT
UID:6278630:Event:91744
DTSTAMP:20260422T125933Z
SUMMARY:North Central London Joint Health Overview and Scrutiny Commit
 tee
DESCRIPTION:The following meeting covers the London Boroughs of Barnet
 , Camden, Enfield, Haringey and Islington\nThe following items are inc
 luded in the agenda:\n\nNo.\n\nItem\n\n\n1\n\nWelcome and Apologies fo
 r Absence\n\n\n2\n\nDeclarations of interest\n\n\n3\n\nUrgent Business
 \n\n\n4\n\nMinutes\n\n\n5\n\nAccident and Emergency - Performance\n\n\
 n6\n\nLondon Ambulance Service - Update\n\n\n7\n\nWhittington Health; 
 Five Year Plan/Development of Integrated Care\n\n\n8\n\nUpdate from No
 rth Central London Maternity Network\n\n\n9\n\nWork Plan and Dates for
  Future Meetings\n\n\n\n\n\nFor more information visit https://bowesan
 dbounds.org/events/north-central-london-joint-health-overview-and-scru
 tiny-committ-1
DTSTART;TZID=Europe/London:20150320T100000
DTEND;TZID=Europe/London:20150320T130000
CATEGORIES:nhs
LOCATION:Camden Town Hall
WEBSITE:http://www.camden.gov.uk/ccm/navigation/
URL:http://www.camden.gov.uk/ccm/navigation/
CONTACT:020 7974 5710
ORGANIZER;CN="Donald Smith":https://bowesandbounds.org/profile/DonaldS
 mith
ATTACH;FMTTYPE="image/jpeg":
ATTENDEE;ROLE=REQ-PARTICIPANT;PARTSTAT=ACCEPTED;RSVP=TRUE;CN="Donald S
 mith":https://bowesandbounds.org/profile/DonaldSmith
END:VEVENT
END:VCALENDAR
