BEGIN:VCALENDAR
PRODID:NingEventWidget-v1
VERSION:2.0
METHOD:PUBLISH
BEGIN:VTIMEZONE
TZID:Europe/London
X-LIC-LOCATION:Europe/London
BEGIN:DAYLIGHT
TZOFFSETFROM:+0000
TZOFFSETTO:+0100
TZNAME:BST
DTSTART:19700329T010000
RRULE:FREQ=YEARLY;BYMONTH=3;BYDAY=-1SU
END:DAYLIGHT
BEGIN:STANDARD
TZOFFSETFROM:+0100
TZOFFSETTO:+0000
TZNAME:GMT
DTSTART:19701025T020000
RRULE:FREQ=YEARLY;BYMONTH=10;BYDAY=-1SU
END:STANDARD
END:VTIMEZONE
BEGIN:VEVENT
UID:6278630:Event:54920
DTSTAMP:20260419T140636Z
SUMMARY:North London Artisan Market
DESCRIPTION:A bi-monthly market celebrating all that is great about qu
 ality produce and London's street food scene. \n\nFor more informatio
 n visit https://bowesandbounds.org/events/north-london-artisan-market
DTSTART;TZID=Europe/London:20130309T100000
DTEND;TZID=Europe/London:20130309T140000
CATEGORIES:market
LOCATION:School Yard, Bounds Green School
WEBSITE:http://www.northlondonartisanmarket.co.uk
URL:http://www.northlondonartisanmarket.co.uk
CONTACT:
ORGANIZER;CN="Beulah Antonin":https://bowesandbounds.org/profile/Beula
 hAntonin
ATTACH;FMTTYPE="image/jpeg":http://storage.ning.com/topology/rest/1.0/
 file/get/2287244727?profile=original
ATTENDEE;ROLE=REQ-PARTICIPANT;PARTSTAT=ACCEPTED;RSVP=TRUE;CN="Beulah A
 ntonin":https://bowesandbounds.org/profile/BeulahAntonin
END:VEVENT
END:VCALENDAR
