BEGIN:VCALENDAR
PRODID:NingEventWidget-v1
VERSION:2.0
METHOD:PUBLISH
BEGIN:VTIMEZONE
TZID:Europe/London
X-LIC-LOCATION:Europe/London
BEGIN:DAYLIGHT
TZOFFSETFROM:+0000
TZOFFSETTO:+0100
TZNAME:BST
DTSTART:19700329T010000
RRULE:FREQ=YEARLY;BYMONTH=3;BYDAY=-1SU
END:DAYLIGHT
BEGIN:STANDARD
TZOFFSETFROM:+0100
TZOFFSETTO:+0000
TZNAME:GMT
DTSTART:19701025T020000
RRULE:FREQ=YEARLY;BYMONTH=10;BYDAY=-1SU
END:STANDARD
END:VTIMEZONE
BEGIN:VEVENT
UID:6278630:Event:239619
DTSTAMP:20260421T232702Z
SUMMARY:North London Organic gardeners
DESCRIPTION:Our speaker is  Chris Gorgay of Edible London.\nHead Farm
 er, Chris, has been involved in Edible London since the beginning in 2
 018 and is dedicated to the mission of tackling food poverty and malnu
 trition in the local community. Some of their growing work takes place
  in Wolves Lane and we hope to visit them there this summer. See their
  website https://ediblelondon.org/ to find out more.\n\nFor more infor
 mation visit https://bowesandbounds.org/events/north-london-organic-ga
 rdeners-16
DTSTART;TZID=Europe/London:20220406T200000
DTEND;TZID=Europe/London:20220406T220000
CATEGORIES:meeting
LOCATION:Winchmore Hill Baptist Church, Carey Hall
WEBSITE:
URL:
CONTACT:
ORGANIZER;CN="Sue Davies":https://bowesandbounds.org/profile/SueDavies
ATTACH;FMTTYPE="image/jpeg":https://storage.ning.com/topology/rest/1.0
 /file/get/10221841900?profile=original
ATTENDEE;ROLE=REQ-PARTICIPANT;PARTSTAT=ACCEPTED;RSVP=TRUE;CN="Sue Davi
 es":https://bowesandbounds.org/profile/SueDavies
END:VEVENT
END:VCALENDAR
