BEGIN:VCALENDAR
PRODID:NingEventWidget-v1
VERSION:2.0
METHOD:PUBLISH
BEGIN:VTIMEZONE
TZID:Europe/London
X-LIC-LOCATION:Europe/London
BEGIN:DAYLIGHT
TZOFFSETFROM:+0000
TZOFFSETTO:+0100
TZNAME:BST
DTSTART:19700329T010000
RRULE:FREQ=YEARLY;BYMONTH=3;BYDAY=-1SU
END:DAYLIGHT
BEGIN:STANDARD
TZOFFSETFROM:+0100
TZOFFSETTO:+0000
TZNAME:GMT
DTSTART:19701025T020000
RRULE:FREQ=YEARLY;BYMONTH=10;BYDAY=-1SU
END:STANDARD
END:VTIMEZONE
BEGIN:VEVENT
UID:6278630:Event:252774
DTSTAMP:20260423T134607Z
SUMMARY:North London Organic Gardeners
DESCRIPTION:Our Speaker is Caroline Broome https://www.garden-girl.co.
 uk/\na long term garden designer and plants woman. She will recall the
 \n‘Adventures of a Plant Triallist’\nTen  years of trials and tri
 bulations as a plant triallists for Thompson and Morgan.\n\nFor more i
 nformation visit https://bowesandbounds.org/events/north-london-organi
 c-gardeners-258
DTSTART;TZID=Europe/London:20260304T200000
DTEND;TZID=Europe/London:20260304T220000
CATEGORIES:meeting
LOCATION:Holy Trinity Church Winchmore Hill
WEBSITE:
URL:
CONTACT:07912361631
ORGANIZER;CN="Sue Davies":https://bowesandbounds.org/profile/SueDavies
ATTACH;FMTTYPE="image/jpeg":https://storage.ning.com/topology/rest/1.0
 /file/get/31086288059?profile=original
ATTENDEE;ROLE=REQ-PARTICIPANT;PARTSTAT=ACCEPTED;RSVP=TRUE;CN="Sue Davi
 es":https://bowesandbounds.org/profile/SueDavies
END:VEVENT
END:VCALENDAR
