BEGIN:VCALENDAR
PRODID:NingEventWidget-v1
VERSION:2.0
METHOD:PUBLISH
BEGIN:VTIMEZONE
TZID:Europe/London
X-LIC-LOCATION:Europe/London
BEGIN:DAYLIGHT
TZOFFSETFROM:+0000
TZOFFSETTO:+0100
TZNAME:BST
DTSTART:19700329T010000
RRULE:FREQ=YEARLY;BYMONTH=3;BYDAY=-1SU
END:DAYLIGHT
BEGIN:STANDARD
TZOFFSETFROM:+0100
TZOFFSETTO:+0000
TZNAME:GMT
DTSTART:19701025T020000
RRULE:FREQ=YEARLY;BYMONTH=10;BYDAY=-1SU
END:STANDARD
END:VTIMEZONE
BEGIN:VEVENT
UID:6278630:Event:245603
DTSTAMP:20260419T165036Z
SUMMARY:North London Organic Gardeners
DESCRIPTION:Our Speaker is:-  CHRIS COLLINS\n‘GARDENING WITH GARDEN
  ORGANIC and INDOORS AT HOME’\nChris Collins has an impressive caree
 r in gardening including Head of Horticulture at Garden Organic.\nOn N
 ov 1st he will talk about the work he does with GO; winning the Garden
 ers World gold medal; the new GO garden at Ryton and finally about gro
 wing his own houseplants.\nChris will be sharing his horticultural wis
 dom with us.\nSO…….\nDON’T MISS THE CHANCE TO HEAR HIM!\nVisitor
 s welcome but bring a small horticultural raffle prize\n£1 - all win!
   \n\nFor more information visit https://bowesandbounds.org/events/n
 orth-london-organic-gardeners-28
DTSTART;TZID=Europe/London:20231101T200000
DTEND;TZID=Europe/London:20231101T220000
CATEGORIES:meeting
LOCATION:Carey Hall, Winchmore Hill Baptist Church
WEBSITE:
URL:
CONTACT:02088865125
ORGANIZER;CN="Sue Davies":https://bowesandbounds.org/profile/SueDavies
ATTACH;FMTTYPE="image/jpeg":https://storage.ning.com/topology/rest/1.0
 /file/get/12258864701?profile=original
ATTENDEE;ROLE=REQ-PARTICIPANT;PARTSTAT=ACCEPTED;RSVP=TRUE;CN="Sue Davi
 es":https://bowesandbounds.org/profile/SueDavies
END:VEVENT
END:VCALENDAR
