BEGIN:VCALENDAR
PRODID:NingEventWidget-v1
VERSION:2.0
METHOD:PUBLISH
BEGIN:VTIMEZONE
TZID:Europe/London
X-LIC-LOCATION:Europe/London
BEGIN:DAYLIGHT
TZOFFSETFROM:+0000
TZOFFSETTO:+0100
TZNAME:BST
DTSTART:19700329T010000
RRULE:FREQ=YEARLY;BYMONTH=3;BYDAY=-1SU
END:DAYLIGHT
BEGIN:STANDARD
TZOFFSETFROM:+0100
TZOFFSETTO:+0000
TZNAME:GMT
DTSTART:19701025T020000
RRULE:FREQ=YEARLY;BYMONTH=10;BYDAY=-1SU
END:STANDARD
END:VTIMEZONE
BEGIN:VEVENT
UID:6278630:Event:247096
DTSTAMP:20260419T165053Z
SUMMARY:North London Organic Gardeners
DESCRIPTION:NORTH LONDON ORGANIC GARDENERS\nPLANT SALE\nSaturday 18th 
 May\n10.00am to 12.00 noon\nCarey Hall\nThe Baptist Church\nCompton Ro
 ad, Winchmore Hill,\nN21 3PA\nTea, coffee and homemade cakes\nVeg and 
 flower seedlings, shrubs, perennials, fruit, herbs, and houseplants\nC
 ard, cash or cheque\nDon’t miss it!\n\nFor more information visit ht
 tps://bowesandbounds.org/events/north-london-organic-gardeners-391
DTSTART;TZID=Europe/London:20240518T100000
DTEND;TZID=Europe/London:20240518T120000
CATEGORIES:plant, sale
LOCATION:Winchmore Hill Baptist Church
WEBSITE:
URL:
CONTACT:07912361631
ORGANIZER;CN="Sue Davies":https://bowesandbounds.org/profile/SueDavies
ATTACH;FMTTYPE="image/jpeg":https://storage.ning.com/topology/rest/1.0
 /file/get/12490181064?profile=original
ATTENDEE;ROLE=REQ-PARTICIPANT;PARTSTAT=ACCEPTED;RSVP=TRUE;CN="Sue Davi
 es":https://bowesandbounds.org/profile/SueDavies
END:VEVENT
END:VCALENDAR
