BEGIN:VCALENDAR
PRODID:NingEventWidget-v1
VERSION:2.0
METHOD:PUBLISH
BEGIN:VTIMEZONE
TZID:Europe/London
X-LIC-LOCATION:Europe/London
BEGIN:DAYLIGHT
TZOFFSETFROM:+0000
TZOFFSETTO:+0100
TZNAME:BST
DTSTART:19700329T010000
RRULE:FREQ=YEARLY;BYMONTH=3;BYDAY=-1SU
END:DAYLIGHT
BEGIN:STANDARD
TZOFFSETFROM:+0100
TZOFFSETTO:+0000
TZNAME:GMT
DTSTART:19701025T020000
RRULE:FREQ=YEARLY;BYMONTH=10;BYDAY=-1SU
END:STANDARD
END:VTIMEZONE
BEGIN:VEVENT
UID:6278630:Event:117400
DTSTAMP:20260425T021231Z
SUMMARY:NORTH LONDON ORGANIC GARDENERS
DESCRIPTION:An illustrated talk by the head of the national organisati
 on ‘Garden Organic’\nJAMES CAMPBELL\nspeaking on\n“The Role of 
 Garden Organic in the 21st century”\n\nFor more information visit ht
 tps://bowesandbounds.org/events/north-london-organic-gardeners-4
DTSTART;TZID=Europe/London:20161103T200000
DTEND;TZID=Europe/London:20161103T220000
CATEGORIES:open, meeting
LOCATION:Baptist Church Hall
WEBSITE:
URL:
CONTACT:020 8886 5125
ORGANIZER;CN="Sue Davies":https://bowesandbounds.org/profile/SueDavies
ATTACH;FMTTYPE="image/jpeg":http://storage.ning.com/topology/rest/1.0/
 file/get/2287314052?profile=original
ATTENDEE;ROLE=REQ-PARTICIPANT;PARTSTAT=ACCEPTED;RSVP=TRUE;CN="Sue Davi
 es":https://bowesandbounds.org/profile/SueDavies
END:VEVENT
END:VCALENDAR
