BEGIN:VCALENDAR
PRODID:NingEventWidget-v1
VERSION:2.0
METHOD:PUBLISH
BEGIN:VTIMEZONE
TZID:Europe/London
X-LIC-LOCATION:Europe/London
BEGIN:DAYLIGHT
TZOFFSETFROM:+0000
TZOFFSETTO:+0100
TZNAME:BST
DTSTART:19700329T010000
RRULE:FREQ=YEARLY;BYMONTH=3;BYDAY=-1SU
END:DAYLIGHT
BEGIN:STANDARD
TZOFFSETFROM:+0100
TZOFFSETTO:+0000
TZNAME:GMT
DTSTART:19701025T020000
RRULE:FREQ=YEARLY;BYMONTH=10;BYDAY=-1SU
END:STANDARD
END:VTIMEZONE
BEGIN:VEVENT
UID:6278630:Event:125776
DTSTAMP:20260426T040918Z
SUMMARY:North London Organic Gardeners
DESCRIPTION:Our speaker is:\nCHRIS COLLINS Head of Horticulture and Ga
 rden Organic\nChris trained at Edinburgh Botanic Gardens, has worked a
 t Kew and Westminster Abbey, as well as spending time in gardens overs
 eas. He’s been an RHS Chelsea medallist and the Blue Peter gardener!
  He is particularly interested in promoting gardening in schools which
  is why he has joined Garden Organic as Head of Horticulture to promot
 e its programmes. He is going to talk about his time as the gardener a
 t Westminster Abbey.\n\nFor more information visit https://bowesandbou
 nds.org/events/north-london-organic-gardeners-5
DTSTART;TZID=Europe/London:20170907T200000
DTEND;TZID=Europe/London:20170907T220000
CATEGORIES:meeting
LOCATION:Winchmore Hill Baptist Church
WEBSITE:
URL:
CONTACT:020 8886 5125
ORGANIZER;CN="Sue Davies":https://bowesandbounds.org/profile/SueDavies
ATTACH;FMTTYPE="image/jpeg":http://storage.ning.com/topology/rest/1.0/
 file/get/2287320752?profile=original
ATTENDEE;ROLE=REQ-PARTICIPANT;PARTSTAT=ACCEPTED;RSVP=TRUE;CN="Sue Davi
 es":https://bowesandbounds.org/profile/SueDavies
END:VEVENT
END:VCALENDAR
