BEGIN:VCALENDAR
PRODID:NingEventWidget-v1
VERSION:2.0
METHOD:PUBLISH
BEGIN:VTIMEZONE
TZID:Europe/London
X-LIC-LOCATION:Europe/London
BEGIN:DAYLIGHT
TZOFFSETFROM:+0000
TZOFFSETTO:+0100
TZNAME:BST
DTSTART:19700329T010000
RRULE:FREQ=YEARLY;BYMONTH=3;BYDAY=-1SU
END:DAYLIGHT
BEGIN:STANDARD
TZOFFSETFROM:+0100
TZOFFSETTO:+0000
TZNAME:GMT
DTSTART:19701025T020000
RRULE:FREQ=YEARLY;BYMONTH=10;BYDAY=-1SU
END:STANDARD
END:VTIMEZONE
BEGIN:VEVENT
UID:6278630:Event:130296
DTSTAMP:20260421T174505Z
SUMMARY:North London Organic Gardeners
DESCRIPTION:AGM and Planting for the Plant Sale\nYou can start plantin
 g at home too: Here is a short list of some of the seeds to try:- M
 arigolds, Tagetes,Sweet Peas, Cosmos, Nasturtiums, Tomatoes, Courgette
 s, Peppers,Various Brassicas, Beans (not yet), Herbs – Basil, corian
 der, dill, fennel. Bring any small pots/trays that you have to this
  meeting as we will beplanting and taking them home to germinate ready
  for the Plant Sale.Compost and seeds will be provided.\n\nFor more in
 formation visit https://bowesandbounds.org/events/north-london-organic
 -gardeners-6
DTSTART;TZID=Europe/London:20180329T200000
DTEND;TZID=Europe/London:20180329T220000
CATEGORIES:meeting
LOCATION:Winchmore Hill Baptist Church
WEBSITE:
URL:
CONTACT:02088865125
ORGANIZER;CN="Sue Davies":https://bowesandbounds.org/profile/SueDavies
ATTACH;FMTTYPE="image/jpeg":http://storage.ning.com/topology/rest/1.0/
 file/get/2287318624?profile=original
ATTENDEE;ROLE=REQ-PARTICIPANT;PARTSTAT=ACCEPTED;RSVP=TRUE;CN="Sue Davi
 es":https://bowesandbounds.org/profile/SueDavies
END:VEVENT
END:VCALENDAR
