BEGIN:VCALENDAR
PRODID:NingEventWidget-v1
VERSION:2.0
METHOD:PUBLISH
BEGIN:VTIMEZONE
TZID:Europe/London
X-LIC-LOCATION:Europe/London
BEGIN:DAYLIGHT
TZOFFSETFROM:+0000
TZOFFSETTO:+0100
TZNAME:BST
DTSTART:19700329T010000
RRULE:FREQ=YEARLY;BYMONTH=3;BYDAY=-1SU
END:DAYLIGHT
BEGIN:STANDARD
TZOFFSETFROM:+0100
TZOFFSETTO:+0000
TZNAME:GMT
DTSTART:19701025T020000
RRULE:FREQ=YEARLY;BYMONTH=10;BYDAY=-1SU
END:STANDARD
END:VTIMEZONE
BEGIN:VEVENT
UID:6278630:Event:131315
DTSTAMP:20260425T021238Z
SUMMARY:North London Organic Gardeners PLANT SALE
DESCRIPTION:NLOG ANNUAL PLANT SALE\nAll kinds of garden plants and veg
 etables to buy. Low prices starting at 50p a pot. Plenty of produce to
  choose from plus tea, coffee and homemade cakes to keep you going and
  to meet your plant friends! \nEntry 50p  \n\nFor more information 
 visit https://bowesandbounds.org/events/north-london-organic-gardeners
 -7
DTSTART;TZID=Europe/London:20180519T100000
DTEND;TZID=Europe/London:20180519T120000
CATEGORIES:fundraiser
LOCATION:Carey Hall at Winchmore Hill Baptist Church N21 3PA
WEBSITE:
URL:
CONTACT:02088865125
ORGANIZER;CN="Sue Davies":https://bowesandbounds.org/profile/SueDavies
ATTACH;FMTTYPE="image/jpeg":http://storage.ning.com/topology/rest/1.0/
 file/get/2287326399?profile=original
ATTENDEE;ROLE=REQ-PARTICIPANT;PARTSTAT=ACCEPTED;RSVP=TRUE;CN="Sue Davi
 es":https://bowesandbounds.org/profile/SueDavies
END:VEVENT
END:VCALENDAR
