BEGIN:VCALENDAR
PRODID:NingEventWidget-v1
VERSION:2.0
METHOD:PUBLISH
BEGIN:VTIMEZONE
TZID:Europe/London
X-LIC-LOCATION:Europe/London
BEGIN:DAYLIGHT
TZOFFSETFROM:+0000
TZOFFSETTO:+0100
TZNAME:BST
DTSTART:19700329T010000
RRULE:FREQ=YEARLY;BYMONTH=3;BYDAY=-1SU
END:DAYLIGHT
BEGIN:STANDARD
TZOFFSETFROM:+0100
TZOFFSETTO:+0000
TZNAME:GMT
DTSTART:19701025T020000
RRULE:FREQ=YEARLY;BYMONTH=10;BYDAY=-1SU
END:STANDARD
END:VTIMEZONE
BEGIN:VEVENT
UID:6278630:Event:248642
DTSTAMP:20260423T134459Z
SUMMARY:North London Organic Gardeners
DESCRIPTION:The Answer Lies in the Soil\nis the topic this evening as 
 we enter the start of autumn and winter. How will you treat your soil?
  Hopefully we will be able to watch a few videos and discuss not only 
 our soil preparation but also the crops we might grow. Will we use ca
 rdboard and mulch or will we grow cover crops? When should we spread c
 ompost to prepare our beds or support our gardens over the winter?  
 \n\nFor more information visit https://bowesandbounds.org/events/north
 -london-organic-gardeners-705
DTSTART;TZID=Europe/London:20241002T200000
DTEND;TZID=Europe/London:20241002T220000
CATEGORIES:meeting
LOCATION:Carey Hall, Winchmore Hill Baptist Church
WEBSITE:
URL:
CONTACT:07912361631
ORGANIZER;CN="Sue Davies":https://bowesandbounds.org/profile/SueDavies
ATTACH;FMTTYPE="image/jpeg":https://storage.ning.com/topology/rest/1.0
 /file/get/12945182463?profile=original
ATTENDEE;ROLE=REQ-PARTICIPANT;PARTSTAT=ACCEPTED;RSVP=TRUE;CN="Sue Davi
 es":https://bowesandbounds.org/profile/SueDavies
END:VEVENT
END:VCALENDAR
