BEGIN:VCALENDAR
PRODID:NingEventWidget-v1
VERSION:2.0
METHOD:PUBLISH
BEGIN:VTIMEZONE
TZID:Europe/London
X-LIC-LOCATION:Europe/London
BEGIN:DAYLIGHT
TZOFFSETFROM:+0000
TZOFFSETTO:+0100
TZNAME:BST
DTSTART:19700329T010000
RRULE:FREQ=YEARLY;BYMONTH=3;BYDAY=-1SU
END:DAYLIGHT
BEGIN:STANDARD
TZOFFSETFROM:+0100
TZOFFSETTO:+0000
TZNAME:GMT
DTSTART:19701025T020000
RRULE:FREQ=YEARLY;BYMONTH=10;BYDAY=-1SU
END:STANDARD
END:VTIMEZONE
BEGIN:VEVENT
UID:6278630:Event:139912
DTSTAMP:20260423T061852Z
SUMMARY:North London Organic Gardeners
DESCRIPTION:CHRIS COLLINS\nHead of Horticulture at Garden Organic wil
 l speak on\nPEAT FREE SOILS\nChris will give us some up to date inform
 ation on the Garden Organic Campaign and hopefully give us some ideas 
 on how we can support this, as well as ways to  make our own peat fre
 e composts – all ready for planting in 2020!\n\nFor more information
  visit https://bowesandbounds.org/events/north-london-organic-gardener
 s-9
DTSTART;TZID=Europe/London:20200205T200000
DTEND;TZID=Europe/London:20200205T220000
CATEGORIES:illustrated, talk
LOCATION:Winchmore Hill Baptist Church
WEBSITE:
URL:
CONTACT:02088865125
ORGANIZER;CN="Sue Davies":https://bowesandbounds.org/profile/SueDavies
ATTACH;FMTTYPE="image/jpeg":https://storage.ning.com/topology/rest/1.0
 /file/get/3818634260?profile=original
ATTENDEE;ROLE=REQ-PARTICIPANT;PARTSTAT=ACCEPTED;RSVP=TRUE;CN="Sue Davi
 es":https://bowesandbounds.org/profile/SueDavies
END:VEVENT
END:VCALENDAR
