BEGIN:VCALENDAR
PRODID:NingEventWidget-v1
VERSION:2.0
METHOD:PUBLISH
BEGIN:VTIMEZONE
TZID:Europe/London
X-LIC-LOCATION:Europe/London
BEGIN:DAYLIGHT
TZOFFSETFROM:+0000
TZOFFSETTO:+0100
TZNAME:BST
DTSTART:19700329T010000
RRULE:FREQ=YEARLY;BYMONTH=3;BYDAY=-1SU
END:DAYLIGHT
BEGIN:STANDARD
TZOFFSETFROM:+0100
TZOFFSETTO:+0000
TZNAME:GMT
DTSTART:19701025T020000
RRULE:FREQ=YEARLY;BYMONTH=10;BYDAY=-1SU
END:STANDARD
END:VTIMEZONE
BEGIN:VEVENT
UID:6278630:Event:250482
DTSTAMP:20260423T134728Z
SUMMARY:North London Organic Gardeners
DESCRIPTION:Our speaker this month is Anne Bisset-Smith from Greenpeac
 e coming to talk about the work of the organisation in defending the n
 atural world from destruction. Their vision is a greener, healthier an
 d more peaceful planet that can sustain life for generations to come!Â
  Â \n\nFor more information visit https://bowesandbounds.org/events/no
 rth-london-organic-gardeners-913
DTSTART;TZID=Europe/London:20250604T200000
DTEND;TZID=Europe/London:20250604T220000
CATEGORIES:meeting
LOCATION:Holy Trinity Church,
WEBSITE:
URL:
CONTACT:07912361631
ORGANIZER;CN="Sue Davies":https://bowesandbounds.org/profile/SueDavies
ATTACH;FMTTYPE="image/jpeg":https://storage.ning.com/topology/rest/1.0
 /file/get/13557294687?profile=original
ATTENDEE;ROLE=REQ-PARTICIPANT;PARTSTAT=ACCEPTED;RSVP=TRUE;CN="Sue Davi
 es":https://bowesandbounds.org/profile/SueDavies
END:VEVENT
END:VCALENDAR
