BEGIN:VCALENDAR
PRODID:NingEventWidget-v1
VERSION:2.0
METHOD:PUBLISH
BEGIN:VTIMEZONE
TZID:Europe/London
X-LIC-LOCATION:Europe/London
BEGIN:DAYLIGHT
TZOFFSETFROM:+0000
TZOFFSETTO:+0100
TZNAME:BST
DTSTART:19700329T010000
RRULE:FREQ=YEARLY;BYMONTH=3;BYDAY=-1SU
END:DAYLIGHT
BEGIN:STANDARD
TZOFFSETFROM:+0100
TZOFFSETTO:+0000
TZNAME:GMT
DTSTART:19701025T020000
RRULE:FREQ=YEARLY;BYMONTH=10;BYDAY=-1SU
END:STANDARD
END:VTIMEZONE
BEGIN:VEVENT
UID:6278630:Event:121111
DTSTAMP:20260424T235446Z
SUMMARY:North London Organic Gardeners meeting
DESCRIPTION:Are you a keen gardener ? Do you know anything about Perma
 culture? Why not come and find out more on March 2nd? Our Speaker tha
 t evening will be:\nSUSANNAH HALL- a gardener and designer basing her 
 work and her talk on PERMACULTURE\n\nFor more information visit https:
 //bowesandbounds.org/events/north-london-organic-gardeners-meeting-1
DTSTART;TZID=Europe/London:20170302T200000
DTEND;TZID=Europe/London:20170302T220000
CATEGORIES:meeting
LOCATION:Winchmore Hill Baptist Church
WEBSITE:
URL:
CONTACT:020 8886 5125
ORGANIZER;CN="Sue Davies":https://bowesandbounds.org/profile/SueDavies
ATTACH;FMTTYPE="image/jpeg":http://storage.ning.com/topology/rest/1.0/
 file/get/2287315920?profile=original
ATTENDEE;ROLE=REQ-PARTICIPANT;PARTSTAT=ACCEPTED;RSVP=TRUE;CN="Sue Davi
 es":https://bowesandbounds.org/profile/SueDavies
END:VEVENT
END:VCALENDAR
