BEGIN:VCALENDAR
PRODID:NingEventWidget-v1
VERSION:2.0
METHOD:PUBLISH
BEGIN:VTIMEZONE
TZID:Europe/London
X-LIC-LOCATION:Europe/London
BEGIN:DAYLIGHT
TZOFFSETFROM:+0000
TZOFFSETTO:+0100
TZNAME:BST
DTSTART:19700329T010000
RRULE:FREQ=YEARLY;BYMONTH=3;BYDAY=-1SU
END:DAYLIGHT
BEGIN:STANDARD
TZOFFSETFROM:+0100
TZOFFSETTO:+0000
TZNAME:GMT
DTSTART:19701025T020000
RRULE:FREQ=YEARLY;BYMONTH=10;BYDAY=-1SU
END:STANDARD
END:VTIMEZONE
BEGIN:VEVENT
UID:6278630:Event:135504
DTSTAMP:20260424T035104Z
SUMMARY:North London Organic Gardeners meeting
DESCRIPTION:\nAGM and Planting for the Plant Sale\nSue C will summaris
 e the year’s activities and we will hear briefly from the Committee 
 including the Treasurer’s Report. (You may want to join the committe
 e for 2019/20 and offer your skills?)\nThis will be followed by practi
 cal seed planting\n\nFor more information visit https://bowesandbounds
 .org/events/north-london-organic-gardeners-meeting-12
DTSTART;TZID=Europe/London:20190403T200000
DTEND;TZID=Europe/London:20190403T220000
CATEGORIES:meeting
LOCATION:Carey Hall at Winchmore Hill Baptist Church
WEBSITE:
URL:
CONTACT:+442088865125
ORGANIZER;CN="Sue Davies":https://bowesandbounds.org/profile/SueDavies
ATTACH;FMTTYPE="image/jpeg":https://storage.ning.com/topology/rest/1.0
 /file/get/1358993603?profile=original
ATTENDEE;ROLE=REQ-PARTICIPANT;PARTSTAT=ACCEPTED;RSVP=TRUE;CN="Sue Davi
 es":https://bowesandbounds.org/profile/SueDavies
END:VEVENT
END:VCALENDAR
