BEGIN:VCALENDAR
PRODID:NingEventWidget-v1
VERSION:2.0
METHOD:PUBLISH
BEGIN:VTIMEZONE
TZID:Europe/London
X-LIC-LOCATION:Europe/London
BEGIN:DAYLIGHT
TZOFFSETFROM:+0000
TZOFFSETTO:+0100
TZNAME:BST
DTSTART:19700329T010000
RRULE:FREQ=YEARLY;BYMONTH=3;BYDAY=-1SU
END:DAYLIGHT
BEGIN:STANDARD
TZOFFSETFROM:+0100
TZOFFSETTO:+0000
TZNAME:GMT
DTSTART:19701025T020000
RRULE:FREQ=YEARLY;BYMONTH=10;BYDAY=-1SU
END:STANDARD
END:VTIMEZONE
BEGIN:VEVENT
UID:6278630:Event:138567
DTSTAMP:20260419T133539Z
SUMMARY:North London Organic Gardeners Meeting
DESCRIPTION:An illustrated talk by Karen Lawton on\n“Growing and usi
 ng Medicinal plants”\nKaren lives in Northaw and is 'part of the Nor
 thaw Community Orchard Team'. \nKaren has written a book called The 
 Sensory Herbal Handbookand will be coming to talk about her work growi
 ng and creating herbal remedies from local, easy to grow medicinal her
 bs.\n\nFor more information visit https://bowesandbounds.org/events/no
 rth-london-organic-gardeners-meeting-16
DTSTART;TZID=Europe/London:20191106T200000
DTEND;TZID=Europe/London:20191106T220000
CATEGORIES:illustrated, talk
LOCATION:Winchmore Hill Baptist Church
WEBSITE:
URL:
CONTACT:+442088865125
ORGANIZER;CN="Sue Davies":https://bowesandbounds.org/profile/SueDavies
ATTACH;FMTTYPE="image/jpeg":https://storage.ning.com/topology/rest/1.0
 /file/get/3663842804?profile=original
ATTENDEE;ROLE=REQ-PARTICIPANT;PARTSTAT=ACCEPTED;RSVP=TRUE;CN="Sue Davi
 es":https://bowesandbounds.org/profile/SueDavies
END:VEVENT
END:VCALENDAR
