BEGIN:VCALENDAR
PRODID:NingEventWidget-v1
VERSION:2.0
METHOD:PUBLISH
BEGIN:VTIMEZONE
TZID:Europe/London
X-LIC-LOCATION:Europe/London
BEGIN:DAYLIGHT
TZOFFSETFROM:+0000
TZOFFSETTO:+0100
TZNAME:BST
DTSTART:19700329T010000
RRULE:FREQ=YEARLY;BYMONTH=3;BYDAY=-1SU
END:DAYLIGHT
BEGIN:STANDARD
TZOFFSETFROM:+0100
TZOFFSETTO:+0000
TZNAME:GMT
DTSTART:19701025T020000
RRULE:FREQ=YEARLY;BYMONTH=10;BYDAY=-1SU
END:STANDARD
END:VTIMEZONE
BEGIN:VEVENT
UID:6278630:Event:130698
DTSTAMP:20260425T052603Z
SUMMARY:North London Organic Gardeners meeting
DESCRIPTION:25 YEARS OF NLOG\nA short illustrated history of NLOG by s
 ome of the committee:-\n“Our Gardening Memories” starting in 1993.
 \nThis will be followed by inviting you all to share a personal story 
 as to how you became an enthusiastic gardener.\nExpect some celebrator
 y food with the cuppa tonight!\n\nFor more information visit https://b
 owesandbounds.org/events/north-london-organic-gardeners-meeting-8
DTSTART;TZID=Europe/London:20180503T200000
DTEND;TZID=Europe/London:20180503T220000
CATEGORIES:meeting
LOCATION:Winchmore Hill Baptist Church
WEBSITE:
URL:
CONTACT:020 8886 5125
ORGANIZER;CN="Sue Davies":https://bowesandbounds.org/profile/SueDavies
ATTACH;FMTTYPE="image/jpeg":
ATTENDEE;ROLE=REQ-PARTICIPANT;PARTSTAT=ACCEPTED;RSVP=TRUE;CN="Sue Davi
 es":https://bowesandbounds.org/profile/SueDavies
END:VEVENT
END:VCALENDAR
