BEGIN:VCALENDAR
PRODID:NingEventWidget-v1
VERSION:2.0
METHOD:PUBLISH
BEGIN:VTIMEZONE
TZID:Europe/London
X-LIC-LOCATION:Europe/London
BEGIN:DAYLIGHT
TZOFFSETFROM:+0000
TZOFFSETTO:+0100
TZNAME:BST
DTSTART:19700329T010000
RRULE:FREQ=YEARLY;BYMONTH=3;BYDAY=-1SU
END:DAYLIGHT
BEGIN:STANDARD
TZOFFSETFROM:+0100
TZOFFSETTO:+0000
TZNAME:GMT
DTSTART:19701025T020000
RRULE:FREQ=YEARLY;BYMONTH=10;BYDAY=-1SU
END:STANDARD
END:VTIMEZONE
BEGIN:VEVENT
UID:6278630:Event:133042
DTSTAMP:20260421T174807Z
SUMMARY:North London Organic Gardeners meeting
DESCRIPTION:Our ‘own’ Garden Organic speaker is:\nCHRIS COLLINS ta
 lking on his worldwide travels: Experiences in horticulture from Camer
 oon to Japan\nChris was a great hit in 2017 when he spoke about A Year
  in Westminster Abbey as head gardener. He is guaranteed to entertain 
 us and impart some horticultural gems to us all. Don’t miss this tal
 k!\nHe joined Garden Organic as Head of Horticulture to promote its pr
 ogrammes. Look for his ‘One Man and His Organic Plot’ on the Garde
 n Organic website. He lives and grows in Palmers Green so his comments
  are very relevant to all of us!\n\nFor more information visit https:/
 /bowesandbounds.org/events/north-london-organic-gardeners-meeting-9
DTSTART;TZID=Europe/London:20181107T200000
DTEND;TZID=Europe/London:20181107T220000
CATEGORIES:meeting
LOCATION:Winchmore Hill Baptist Church
WEBSITE:
URL:
CONTACT:02088865125
ORGANIZER;CN="Sue Davies":https://bowesandbounds.org/profile/SueDavies
ATTACH;FMTTYPE="image/jpeg":http://storage.ning.com/topology/rest/1.0/
 file/get/2287330922?profile=original
ATTENDEE;ROLE=REQ-PARTICIPANT;PARTSTAT=ACCEPTED;RSVP=TRUE;CN="Sue Davi
 es":https://bowesandbounds.org/profile/SueDavies
END:VEVENT
END:VCALENDAR
