BEGIN:VCALENDAR
PRODID:NingEventWidget-v1
VERSION:2.0
METHOD:PUBLISH
BEGIN:VTIMEZONE
TZID:Europe/London
X-LIC-LOCATION:Europe/London
BEGIN:DAYLIGHT
TZOFFSETFROM:+0000
TZOFFSETTO:+0100
TZNAME:BST
DTSTART:19700329T010000
RRULE:FREQ=YEARLY;BYMONTH=3;BYDAY=-1SU
END:DAYLIGHT
BEGIN:STANDARD
TZOFFSETFROM:+0100
TZOFFSETTO:+0000
TZNAME:GMT
DTSTART:19701025T020000
RRULE:FREQ=YEARLY;BYMONTH=10;BYDAY=-1SU
END:STANDARD
END:VTIMEZONE
BEGIN:VEVENT
UID:6278630:Event:111765
DTSTAMP:20260422T090012Z
SUMMARY:North London Organic Gardeners Plant Sale
DESCRIPTION:Annual Plant Sale - Best in North London!Opens at 10am and
  offers low priced plants for your garden and vegetable patch, plus te
 as, coffees and cakes. Come early - they go quickly......\n\nFor more 
 information visit https://bowesandbounds.org/events/north-london-organ
 ic-gardeners-plant-sale
DTSTART;TZID=Europe/London:20160514T100000
DTEND;TZID=Europe/London:20160514T120000
CATEGORIES:fundraising, plant, sale
LOCATION:Winchmore Hill Baptist Church
WEBSITE:https://www.google.co.uk/maps/place/Compton+Rd,+London+N21+3PA
 /@51.6312014,-0.0997139,17z/data=!3m1!4b1!4m2!3m1!1s0x4876192d78bac5ed
 :0x26ea9ef4047686f9?hl=en
URL:https://www.google.co.uk/maps/place/Compton+Rd,+London+N21+3PA/@51
 .6312014,-0.0997139,17z/data=!3m1!4b1!4m2!3m1!1s0x4876192d78bac5ed:0x2
 6ea9ef4047686f9?hl=en
CONTACT:02088865125
ORGANIZER;CN="Sue Davies":https://bowesandbounds.org/profile/SueDavies
ATTACH;FMTTYPE="image/jpeg":http://storage.ning.com/topology/rest/1.0/
 file/get/2287308723?profile=original
ATTENDEE;ROLE=REQ-PARTICIPANT;PARTSTAT=ACCEPTED;RSVP=TRUE;CN="Sue Davi
 es":https://bowesandbounds.org/profile/SueDavies
END:VEVENT
END:VCALENDAR
