BEGIN:VCALENDAR
PRODID:NingEventWidget-v1
VERSION:2.0
METHOD:PUBLISH
BEGIN:VTIMEZONE
TZID:Europe/London
X-LIC-LOCATION:Europe/London
BEGIN:DAYLIGHT
TZOFFSETFROM:+0000
TZOFFSETTO:+0100
TZNAME:BST
DTSTART:19700329T010000
RRULE:FREQ=YEARLY;BYMONTH=3;BYDAY=-1SU
END:DAYLIGHT
BEGIN:STANDARD
TZOFFSETFROM:+0100
TZOFFSETTO:+0000
TZNAME:GMT
DTSTART:19701025T020000
RRULE:FREQ=YEARLY;BYMONTH=10;BYDAY=-1SU
END:STANDARD
END:VTIMEZONE
BEGIN:VEVENT
UID:6278630:Event:131152
DTSTAMP:20260425T000003Z
SUMMARY:North London Organic Gardeners visit
DESCRIPTION:Join us for a visit to Woodcroft Wildspace for a guided to
 ur with Bob Ladell to see this award winning site.\n\nFor more informa
 tion visit https://bowesandbounds.org/events/north-london-organic-gard
 eners-visit
DTSTART;TZID=Europe/London:20180606T190000
DTEND;TZID=Europe/London:20180606T210000
CATEGORIES:visit
LOCATION:Access via Downes Court entrance N21 3PT
WEBSITE:
URL:
CONTACT:020 8886 5125
ORGANIZER;CN="Sue Davies":https://bowesandbounds.org/profile/SueDavies
ATTACH;FMTTYPE="image/jpeg":http://storage.ning.com/topology/rest/1.0/
 file/get/2287327039?profile=original
ATTENDEE;ROLE=REQ-PARTICIPANT;PARTSTAT=ACCEPTED;RSVP=TRUE;CN="Sue Davi
 es":https://bowesandbounds.org/profile/SueDavies
END:VEVENT
END:VCALENDAR
