BEGIN:VCALENDAR
PRODID:NingEventWidget-v1
VERSION:2.0
METHOD:PUBLISH
BEGIN:VTIMEZONE
TZID:Europe/London
X-LIC-LOCATION:Europe/London
BEGIN:DAYLIGHT
TZOFFSETFROM:+0000
TZOFFSETTO:+0100
TZNAME:BST
DTSTART:19700329T010000
RRULE:FREQ=YEARLY;BYMONTH=3;BYDAY=-1SU
END:DAYLIGHT
BEGIN:STANDARD
TZOFFSETFROM:+0100
TZOFFSETTO:+0000
TZNAME:GMT
DTSTART:19701025T020000
RRULE:FREQ=YEARLY;BYMONTH=10;BYDAY=-1SU
END:STANDARD
END:VTIMEZONE
BEGIN:VEVENT
UID:6278630:Event:107417
DTSTAMP:20260424T001749Z
SUMMARY:North London Vintage Fair
DESCRIPTION:Local Vintage Fair in Crouch End\nIncluding stalls by loca
 l Bounds Green residents\nCome alone between 1-5 to have a look what's
  on sale\n\nFor more information visit https://bowesandbounds.org/even
 ts/north-london-vintage-fair
DTSTART;TZID=Europe/London:20160207T000000
DTEND;TZID=Europe/London:20160207T235900
CATEGORIES:vintage, fair
LOCATION:Hornsey Parish Church Crouch End. N10 3AH
WEBSITE:http://northlondonvintagemarket.blogspot.co.uk/
URL:http://northlondonvintagemarket.blogspot.co.uk/
CONTACT:
ORGANIZER;CN=Jane:https://bowesandbounds.org/profile/Jane976
ATTACH;FMTTYPE="image/jpeg":http://storage.ning.com/topology/rest/1.0/
 file/get/2287304854?profile=original
ATTENDEE;ROLE=REQ-PARTICIPANT;PARTSTAT=ACCEPTED;RSVP=TRUE;CN=Jane:http
 s://bowesandbounds.org/profile/Jane976
END:VEVENT
END:VCALENDAR
