BEGIN:VCALENDAR
PRODID:NingEventWidget-v1
VERSION:2.0
METHOD:PUBLISH
BEGIN:VTIMEZONE
TZID:Europe/London
X-LIC-LOCATION:Europe/London
BEGIN:DAYLIGHT
TZOFFSETFROM:+0000
TZOFFSETTO:+0100
TZNAME:BST
DTSTART:19700329T010000
RRULE:FREQ=YEARLY;BYMONTH=3;BYDAY=-1SU
END:DAYLIGHT
BEGIN:STANDARD
TZOFFSETFROM:+0100
TZOFFSETTO:+0000
TZNAME:GMT
DTSTART:19701025T020000
RRULE:FREQ=YEARLY;BYMONTH=10;BYDAY=-1SU
END:STANDARD
END:VTIMEZONE
BEGIN:VEVENT
UID:6278630:Event:125210
DTSTAMP:20260424T233020Z
SUMMARY:North Middlesex University Hospital AGM
DESCRIPTION:\n\nDate for your diary: the Board Members and Chief Execu
 tive will be holding the North Middleex University Hospital's Annual M
 eeting for 2107 in the\" Spice of Life\" Restaurant from 12:30pm to 1
 3:30pm. Come early to ensure that you gain a parking place and a front
  seat at the event . Board Papers will be available in the week before
  the meeting\n\n\nFor more information visit https://bowesandbounds.or
 g/events/north-middlesex-university-hospital-agm
DTSTART;TZID=Europe/London:20170907T121500
DTEND;TZID=Europe/London:20170907T133000
CATEGORIES:annual_meeting, 2017
LOCATION:North Middlesex Hospital: Spice of life Restaurant
WEBSITE:http://www.northmid.nhs.uk/
URL:http://www.northmid.nhs.uk/
CONTACT:
ORGANIZER;CN="Donald Smith":https://bowesandbounds.org/profile/DonaldS
 mith
ATTACH;FMTTYPE="image/jpeg":
ATTENDEE;ROLE=REQ-PARTICIPANT;PARTSTAT=ACCEPTED;RSVP=TRUE;CN="Donald S
 mith":https://bowesandbounds.org/profile/DonaldSmith
END:VEVENT
END:VCALENDAR
