BEGIN:VCALENDAR
PRODID:NingEventWidget-v1
VERSION:2.0
METHOD:PUBLISH
BEGIN:VTIMEZONE
TZID:Europe/London
X-LIC-LOCATION:Europe/London
BEGIN:DAYLIGHT
TZOFFSETFROM:+0000
TZOFFSETTO:+0100
TZNAME:BST
DTSTART:19700329T010000
RRULE:FREQ=YEARLY;BYMONTH=3;BYDAY=-1SU
END:DAYLIGHT
BEGIN:STANDARD
TZOFFSETFROM:+0100
TZOFFSETTO:+0000
TZNAME:GMT
DTSTART:19701025T020000
RRULE:FREQ=YEARLY;BYMONTH=10;BYDAY=-1SU
END:STANDARD
END:VTIMEZONE
BEGIN:VEVENT
UID:6278630:Event:140072
DTSTAMP:20260423T050927Z
SUMMARY:Notes from the Underground - Letters to Ophelia
DESCRIPTION:Valentine's day special Notes from underground featuring s
 ongs and poems of romance, madness, love and despair from some of the 
 finest acts in The London alterntive Folk and singer songwriter scene.
 \nFeaturing\nDominic Silvani Gabi Garbutt\nHosted by Gabriel Moreno\n\
 nFor more information visit https://bowesandbounds.org/events/notes-fr
 om-the-underground-letters-to-ophelia
DTSTART;TZID=Europe/London:20200214T190000
DTEND;TZID=Europe/London:20200214T230000
CATEGORIES:music
LOCATION:KaramelN22
WEBSITE:https://www.musicglue.com/karamel/events/2020-02-14-notes-from
 -the-underground-letters-to-ophelia-karamel
URL:https://www.musicglue.com/karamel/events/2020-02-14-notes-from-the
 -underground-letters-to-ophelia-karamel
CONTACT:
ORGANIZER;CN="Collage Arts":https://bowesandbounds.org/profile/Collage
 Arts105
ATTACH;FMTTYPE="image/jpeg":https://storage.ning.com/topology/rest/1.0
 /file/get/3859599730?profile=original
ATTENDEE;ROLE=REQ-PARTICIPANT;PARTSTAT=ACCEPTED;RSVP=TRUE;CN="Collage 
 Arts":https://bowesandbounds.org/profile/CollageArts105
END:VEVENT
END:VCALENDAR
